BEGIN:VCALENDAR
VERSION:2.0
PRODID:-//childcarerockland.org//NONSGML kigkonsult.se iCalcreator 2.30.10/
 /
CALSCALE:GREGORIAN
METHOD:PUBLISH
UID:d105a54b-3e3f-45aa-bac7-0d1f049c8d4c
X-WR-CALDESC:Participants will gain a comprehensive understanding of what i
 s required during an inspection. Attendees will have the opportunity to wo
 rk both in small groups and have large group discussions on what is to be 
 expected.\n\nTarget Audience: FG\, SA\nTrainer: Jill Halpern\nComponent Ar
 eas:\nOCFS: 7\nCBK: 7\nCDA: L\nFee: $20 members/ $75 non-members\nRegister
  by calling (845) 425-0009 x0.\n\nPayment is required upon registration an
 d a confirmation of payment will be emailed to you.
X-WR-RELCALID:8a575bde90d2ff2f9cbd3a7c48195c4e
X-WR-TIMEZONE:America/New_York
BEGIN:VTIMEZONE
TZID:America/New_York
BEGIN:STANDARD
TZNAME:EST
DTSTART:20251102T020000
TZOFFSETFROM:-0400
TZOFFSETTO:-0500
RDATE:20261101T020000
RDATE:20271107T020000
END:STANDARD
BEGIN:DAYLIGHT
TZNAME:EDT
DTSTART:20260308T020000
TZOFFSETFROM:-0500
TZOFFSETTO:-0400
RDATE:20270314T020000
END:DAYLIGHT
END:VTIMEZONE
BEGIN:VEVENT
UID:7b560b94-11d0-4ad7-8341-27032dfa470d
DTSTAMP:20260421T085540Z
DESCRIPTION:Participants will gain a comprehensive understanding of what is
  required during an inspection. Attendees will have the opportunity to wor
 k both in small groups and have large group discussions on what is to be e
 xpected.\n\nTarget Audience: FG\, SA\nTrainer: Jill Halpern\nComponent Are
 as:\nOCFS: 7\nCBK: 7\nCDA: L\nFee: $20 members/ $75 non-members\nRegister 
 by calling (845) 425-0009 x0.\n\nPayment is required upon registration and
  a confirmation of payment will be emailed to you.
DTSTART;TZID=America/New_York:20260722T183000
DTEND;TZID=America/New_York:20260722T203000
LOCATION:40 Ramland Road\, Suite 209\, Orangeburg\, NY 10962 US
SUMMARY:Inspection Ready
END:VEVENT
END:VCALENDAR
