BEGIN:VCALENDAR
VERSION:2.0
PRODID:-//childcarerockland.org//NONSGML kigkonsult.se iCalcreator 2.30.10/
 /
CALSCALE:GREGORIAN
METHOD:PUBLISH
UID:8b9ffb20-2f50-4858-a79a-a3da68d0ef4d
X-WR-CALDESC:Join a Network Meeting! CCRR Network Meetings provide child ca
 re professionals with the chance to connect with others in the field\; sta
 y on top of trends and data\; and remain informed about the latest news an
 d regulations in child care. Come learn about Empire State Family Child Ca
 re Collaborative. \n\nTarget Audience: FG\nFacilitators: Diahann Darwood a
 nd Allison Wojciechowski\nFee: Free\n\n*Once registered\, the Zoom link wi
 ll be emailed to you.
X-WR-RELCALID:123322057a1e9bf83d723b7b8ba790fd
X-WR-TIMEZONE:America/New_York
BEGIN:VTIMEZONE
TZID:America/New_York
BEGIN:STANDARD
TZNAME:EST
DTSTART:20251102T020000
TZOFFSETFROM:-0400
TZOFFSETTO:-0500
RDATE:20261101T020000
RDATE:20271107T020000
END:STANDARD
BEGIN:DAYLIGHT
TZNAME:EDT
DTSTART:20260308T020000
TZOFFSETFROM:-0500
TZOFFSETTO:-0400
RDATE:20270314T020000
END:DAYLIGHT
END:VTIMEZONE
BEGIN:VEVENT
UID:50066065-9966-4f00-986a-10167accc7d3
DTSTAMP:20260421T091039Z
DESCRIPTION:Join a Network Meeting! CCRR Network Meetings provide child car
 e professionals with the chance to connect with others in the field\; stay
  on top of trends and data\; and remain informed about the latest news and
  regulations in child care. Come learn about Empire State Family Child Car
 e Collaborative. \n\nTarget Audience: FG\nFacilitators: Diahann Darwood an
 d Allison Wojciechowski\nFee: Free\n\n*Once registered\, the Zoom link wil
 l be emailed to you.
DTSTART;TZID=America/New_York:20260714T183000
DTEND;TZID=America/New_York:20260714T193000
LOCATION:via Zoom
SUMMARY:Empire State Family Child Care Collaborative Meeting
END:VEVENT
END:VCALENDAR
