BEGIN:VCALENDAR
VERSION:2.0
PRODID:-//childcarerockland.org//NONSGML kigkonsult.se iCalcreator 2.30.10/
 /
CALSCALE:GREGORIAN
METHOD:PUBLISH
UID:b04a8580-9bb2-409a-8537-0cd5d0dc871e
X-WR-CALDESC:This training session is designed to help child care providers
  develop the skills necessary to navigate difficult conversations with fam
 ilies and enforce policies effectively. Participants will learn essential 
 communication strategies\, understand the importance of empathy and clarit
 y. The session aims to build confidence and competence in maintaining a pr
 ofessional and supportive environment while upholding the policies that en
 sure the safety and well-being of children.\n\nTarget Audience: FG\nTraine
 r: Allison Wojciechowski \nComponent Areas:\nOCFS: 3 \nCBK: 7\nCDA: L\nFee
 : Free\n\n*Once registered\, the Zoom link will be emailed to you.
X-WR-RELCALID:df11489812268810d957d72bd8f32509
X-WR-TIMEZONE:America/New_York
BEGIN:VTIMEZONE
TZID:America/New_York
BEGIN:STANDARD
TZNAME:EST
DTSTART:20251102T020000
TZOFFSETFROM:-0400
TZOFFSETTO:-0500
RDATE:20261101T020000
RDATE:20271107T020000
END:STANDARD
BEGIN:DAYLIGHT
TZNAME:EDT
DTSTART:20260308T020000
TZOFFSETFROM:-0500
TZOFFSETTO:-0400
RDATE:20270314T020000
END:DAYLIGHT
END:VTIMEZONE
BEGIN:VEVENT
UID:6b86fe84-2814-4a8b-b408-00ec403d21cf
DTSTAMP:20260421T085437Z
DESCRIPTION:This training session is designed to help child care providers 
 develop the skills necessary to navigate difficult conversations with fami
 lies and enforce policies effectively. Participants will learn essential c
 ommunication strategies\, understand the importance of empathy and clarity
 . The session aims to build confidence and competence in maintaining a pro
 fessional and supportive environment while upholding the policies that ens
 ure the safety and well-being of children.\n\nTarget Audience: FG\nTrainer
 : Allison Wojciechowski \nComponent Areas:\nOCFS: 3 \nCBK: 7\nCDA: L\nFee:
  Free\n\n*Once registered\, the Zoom link will be emailed to you.
DTSTART;TZID=America/New_York:20260713T180000
DTEND;TZID=America/New_York:20260713T190000
LOCATION:via Zoom
SUMMARY:It’s Policy! Enforcing Your Family Policies and How to Have Those D
 ifficult Conversations
END:VEVENT
END:VCALENDAR
