BEGIN:VCALENDAR
VERSION:2.0
PRODID:-//childcarerockland.org//NONSGML kigkonsult.se iCalcreator 2.30.10/
 /
CALSCALE:GREGORIAN
METHOD:PUBLISH
UID:28911dd5-1cb8-4a49-88d4-10b54c782781
X-WR-CALDESC:Would you like to broaden your understanding of social and emo
 tional development\, and improve the quality of your program and your inte
 ractions with children\, parents\, and staff? The Infant and Toddler Menta
 l Health consultation service is a collaboration between the mental health
  specialist and the provider/teacher to enhance children’s social and emot
 ional well-being. It promotes wellness in the classroom and is a great com
 munity resource. The consultation service is free\, voluntary\, and confid
 ential.\n\nTarget Audience: FG\, D\, IT\, PS\nTrainer: Roxana Halo\nFee: F
 ree\n\nCertificates will not be issued.\n\n*Once registered\, the Zoom lin
 k will be emailed to you.
X-WR-RELCALID:ec9fa7ff2f309b30740ea3b7b9b4bdb0
X-WR-TIMEZONE:America/New_York
BEGIN:VTIMEZONE
TZID:America/New_York
BEGIN:STANDARD
TZNAME:EST
DTSTART:20251102T020000
TZOFFSETFROM:-0400
TZOFFSETTO:-0500
RDATE:20261101T020000
RDATE:20271107T020000
END:STANDARD
BEGIN:DAYLIGHT
TZNAME:EDT
DTSTART:20260308T020000
TZOFFSETFROM:-0500
TZOFFSETTO:-0400
RDATE:20270314T020000
END:DAYLIGHT
END:VTIMEZONE
BEGIN:VEVENT
UID:c2b73620-c220-4477-92bf-5247de33850c
DTSTAMP:20260421T084314Z
DESCRIPTION:Would you like to broaden your understanding of social and emot
 ional development\, and improve the quality of your program and your inter
 actions with children\, parents\, and staff? The Infant and Toddler Mental
  Health consultation service is a collaboration between the mental health 
 specialist and the provider/teacher to enhance children’s social and emoti
 onal well-being. It promotes wellness in the classroom and is a great comm
 unity resource. The consultation service is free\, voluntary\, and confide
 ntial.\n\nTarget Audience: FG\, D\, IT\, PS\nTrainer: Roxana Halo\nFee: Fr
 ee\n\nCertificates will not be issued.\n\n*Once registered\, the Zoom link
  will be emailed to you.
DTSTART;TZID=America/New_York:20260701T190000
DTEND;TZID=America/New_York:20260701T200000
LOCATION:via Zoom
SUMMARY:What Is Infant and Early Childhood Mental Health Consultation? (Inf
 ormation Session)
END:VEVENT
END:VCALENDAR
