BEGIN:VCALENDAR
VERSION:2.0
PRODID:-//childcarerockland.org//NONSGML kigkonsult.se iCalcreator 2.30.10/
 /
CALSCALE:GREGORIAN
METHOD:PUBLISH
UID:81b8fefb-fdee-44f5-8a30-674c1dc8c905
X-WR-CALDESC:NYS OCFS regulations for all modalities require that every pro
 gram have a person certified in CPR and First Aid on-site at all times. Ce
 rtification is valid for 2 years. As per ARC policy\, we are unable to adm
 it anyone into the class once it has begun. Please be on time! Limited to 
 5 participants. Eligible for EIP Funding.\n\nPlease note: Community CPR an
 d the Community First Aid\, as a bundle\, are offered together and complet
 ed in one session. AED training is included.\n\nTarget Audience: All\nTrai
 ner: Diana Santos\nOCFS: 4\nFee: $150 members/ $200 non-members\nRegister 
 by calling (845) 425-0009 x0.\n\nPayment is required upon registration and
  a confirmation of payment will be emailed to you.
X-WR-RELCALID:d8f1f99a35d18fbe453879a01934b8cf
X-WR-TIMEZONE:America/New_York
BEGIN:VTIMEZONE
TZID:America/New_York
BEGIN:STANDARD
TZNAME:EST
DTSTART:20251102T020000
TZOFFSETFROM:-0400
TZOFFSETTO:-0500
RDATE:20261101T020000
RDATE:20271107T020000
END:STANDARD
BEGIN:DAYLIGHT
TZNAME:EDT
DTSTART:20260308T020000
TZOFFSETFROM:-0500
TZOFFSETTO:-0400
RDATE:20270314T020000
END:DAYLIGHT
END:VTIMEZONE
BEGIN:VEVENT
UID:824b143c-d7a4-4a2f-a0c9-d328bbe6c803
DTSTAMP:20260421T065401Z
DESCRIPTION:NYS OCFS regulations for all modalities require that every prog
 ram have a person certified in CPR and First Aid on-site at all times. Cer
 tification is valid for 2 years. As per ARC policy\, we are unable to admi
 t anyone into the class once it has begun. Please be on time! Limited to 5
  participants. Eligible for EIP Funding.\n\nPlease note: Community CPR and
  the Community First Aid\, as a bundle\, are offered together and complete
 d in one session. AED training is included.\n\nTarget Audience: All\nTrain
 er: Diana Santos\nOCFS: 4\nFee: $150 members/ $200 non-members\nRegister b
 y calling (845) 425-0009 x0.\n\nPayment is required upon registration and 
 a confirmation of payment will be emailed to you.
DTSTART;TZID=America/New_York:20260628T090000
DTEND;TZID=America/New_York:20260628T140000
LOCATION:40 Ramland Road\, Suite 209\, Orangeburg\, NY 10962 US
SUMMARY:American Red Cross: CPR and First Aid Bundle - Spanish
END:VEVENT
END:VCALENDAR
