BEGIN:VCALENDAR
VERSION:2.0
PRODID:-//childcarerockland.org//NONSGML kigkonsult.se iCalcreator 2.30.10/
 /
CALSCALE:GREGORIAN
METHOD:PUBLISH
UID:2dee1113-26c4-4653-bedc-add451d637ab
X-WR-CALDESC:Positive discipline is a program that helps parents use kindne
 ss and firmness to develop mutually respectful relationships with their ch
 ildren and change behaviors for good. In this workshop\, you will learn ho
 w positive discipline can benefit your child's behavior\, well-being\, and
  relationship with your child. It will also provide practical ways to impl
 ement positive discipline with your children at home.\n\nTarget Audience: 
 FG\, IT\, PS\nTrainer: Roxana Halo\nComponent Areas:\nOCFS: 1\, 3\nCBK: 1
 \nCDA: F\nFee: Free\n
X-WR-RELCALID:14d850298c5e40abe119f71ed77897b2
X-WR-TIMEZONE:America/New_York
BEGIN:VTIMEZONE
TZID:America/New_York
BEGIN:STANDARD
TZNAME:EST
DTSTART:20251102T020000
TZOFFSETFROM:-0400
TZOFFSETTO:-0500
RDATE:20261101T020000
RDATE:20271107T020000
END:STANDARD
BEGIN:DAYLIGHT
TZNAME:EDT
DTSTART:20260308T020000
TZOFFSETFROM:-0500
TZOFFSETTO:-0400
RDATE:20270314T020000
END:DAYLIGHT
END:VTIMEZONE
BEGIN:VEVENT
UID:9350700b-9b76-44f5-871f-261aeec7c839
DTSTAMP:20260421T065519Z
DESCRIPTION:Positive discipline is a program that helps parents use kindnes
 s and firmness to develop mutually respectful relationships with their chi
 ldren and change behaviors for good. In this workshop\, you will learn how
  positive discipline can benefit your child's behavior\, well-being\, and 
 relationship with your child. It will also provide practical ways to imple
 ment positive discipline with your children at home.\n\nTarget Audience: F
 G\, IT\, PS\nTrainer: Roxana Halo\nComponent Areas:\nOCFS: 1\, 3\nCBK: 1\n
 CDA: F\nFee: Free\n
DTSTART;TZID=America/New_York:20260623T183000
DTEND;TZID=America/New_York:20260623T203000
LOCATION:40 Ramland Road\, Suite 209\, Orangeburg\, NY 10962 US
SUMMARY:Positive Discipline: Discipline Children with Love
END:VEVENT
END:VCALENDAR
