BEGIN:VCALENDAR
VERSION:2.0
PRODID:-//childcarerockland.org//NONSGML kigkonsult.se iCalcreator 2.30.10/
 /
CALSCALE:GREGORIAN
METHOD:PUBLISH
UID:21373f18-067e-4630-bc29-175952d9fec6
X-WR-CALDESC:Many programs fall into the “homework + free play” routine and
  want something more exciting but manageable. This workshop focusses on si
 mple clubs like STEM club\, Art Studio\, Nature Explorer\, Builder’s Lab. 
 We will discuss how to Run a 6-week club with minimal supplies.\n\nTarget 
 Audience: SA\, FG\nTrainer: Diahann Darwood\nComponent Areas:\nOCFS: 1\, 3
 \nCBK: 1\, 5\nCDA: L\nFee: $20 members/ $75 non-members\nRegister by calli
 ng (845) 425-0009 x0\n\nPayment is required upon registration and a confir
 mation of payment will be emailed to you.
X-WR-RELCALID:10fe132ab8c41e6d2182b383e5173c8e
X-WR-TIMEZONE:America/New_York
BEGIN:VTIMEZONE
TZID:America/New_York
BEGIN:STANDARD
TZNAME:EST
DTSTART:20251102T020000
TZOFFSETFROM:-0400
TZOFFSETTO:-0500
RDATE:20261101T020000
RDATE:20271107T020000
END:STANDARD
BEGIN:DAYLIGHT
TZNAME:EDT
DTSTART:20260308T020000
TZOFFSETFROM:-0500
TZOFFSETTO:-0400
RDATE:20270314T020000
END:DAYLIGHT
END:VTIMEZONE
BEGIN:VEVENT
UID:720c17ae-3f42-410b-aa99-c035b2549b3a
DTSTAMP:20260421T065527Z
DESCRIPTION:Many programs fall into the “homework + free play” routine and 
 want something more exciting but manageable. This workshop focusses on sim
 ple clubs like STEM club\, Art Studio\, Nature Explorer\, Builder’s Lab. W
 e will discuss how to Run a 6-week club with minimal supplies.\n\nTarget A
 udience: SA\, FG\nTrainer: Diahann Darwood\nComponent Areas:\nOCFS: 1\, 3
 \nCBK: 1\, 5\nCDA: L\nFee: $20 members/ $75 non-members\nRegister by calli
 ng (845) 425-0009 x0\n\nPayment is required upon registration and a confir
 mation of payment will be emailed to you.
DTSTART;TZID=America/New_York:20260618T183000
DTEND;TZID=America/New_York:20260618T203000
LOCATION:40 Ramland Road\, Suite 209\, Orangeburg\, NY 10962 US
SUMMARY:From Free Time to Amazing Afterschool Clubs
END:VEVENT
END:VCALENDAR
