BEGIN:VCALENDAR
VERSION:2.0
PRODID:-//childcarerockland.org//NONSGML kigkonsult.se iCalcreator 2.30.10/
 /
CALSCALE:GREGORIAN
METHOD:PUBLISH
UID:8130eda5-04e8-4726-b0e1-3e23bea717ed
X-WR-CALDESC:Programs want STEM programming but often lack materials and co
 nfidence. This workshop focusses on engineering challenges with recycled m
 aterials\, quick science stations\, outdoor STEM activities\, and inquiry 
 styled questions that spark scientific thinking. STEM is attractive to fam
 ilies and makes programs stand out.\n\nTarget Audience: SA\, FG\, LE\, D\n
 Trainer: Diahann Darwood\nComponent Areas:\nOCFS: 1\, 3\nCBK: 1\, 5\nCDA: 
 C\nFee: $20 members/ $75 non-members\nRegister by calling (845) 425-0009 x
 0\n\nPayment is required upon registration and a confirmation of payment w
 ill be emailed to you.
X-WR-RELCALID:0e6900b132bf7ccb53fbcca5f0dd5af9
X-WR-TIMEZONE:America/New_York
BEGIN:VTIMEZONE
TZID:America/New_York
BEGIN:STANDARD
TZNAME:EST
DTSTART:20251102T020000
TZOFFSETFROM:-0400
TZOFFSETTO:-0500
RDATE:20261101T020000
RDATE:20271107T020000
END:STANDARD
BEGIN:DAYLIGHT
TZNAME:EDT
DTSTART:20260308T020000
TZOFFSETFROM:-0500
TZOFFSETTO:-0400
RDATE:20270314T020000
END:DAYLIGHT
END:VTIMEZONE
BEGIN:VEVENT
UID:d768ee6d-68f6-4f30-8c99-5003b690f19e
DTSTAMP:20260421T051936Z
DESCRIPTION:Programs want STEM programming but often lack materials and con
 fidence. This workshop focusses on engineering challenges with recycled ma
 terials\, quick science stations\, outdoor STEM activities\, and inquiry s
 tyled questions that spark scientific thinking. STEM is attractive to fami
 lies and makes programs stand out.\n\nTarget Audience: SA\, FG\, LE\, D\nT
 rainer: Diahann Darwood\nComponent Areas:\nOCFS: 1\, 3\nCBK: 1\, 5\nCDA: C
 \nFee: $20 members/ $75 non-members\nRegister by calling (845) 425-0009 x0
 \n\nPayment is required upon registration and a confirmation of payment wi
 ll be emailed to you.
DTSTART;TZID=America/New_York:20260526T183000
DTEND;TZID=America/New_York:20260526T203000
LOCATION:40 Ramland Road\, Suite 209\, Orangeburg\, NY 10962 US
SUMMARY:Low-Cost STEM and Maker Activities for School-Age Programs
END:VEVENT
END:VCALENDAR
