BEGIN:VCALENDAR
VERSION:2.0
PRODID:-//childcarerockland.org//NONSGML kigkonsult.se iCalcreator 2.30.10/
 /
CALSCALE:GREGORIAN
METHOD:PUBLISH
UID:d6fa12ed-17c4-40c4-b6e1-2e7ffbe7e0b6
X-WR-CALDESC:Children are naturally inclined to investigate the world aroun
 d them using whatever tools they can think of\, even if that’s their mouth
 ! When it comes to science\, discovering fun\, engaging experiences for to
 ddlers can be challenging. Are you looking for something new to try? Join 
 Jenny to learn more about creating engaging science and discovery experien
 ces in your classroom.\n\nTarget Audience: FG\, IT\, LE\nTrainer: Jenny Sp
 ampinato\nComponent Areas:\nOCFS: 1\, 3\nCBK: 1\, 5\nCDA: C\, G\nFee: Free
 \n
X-WR-RELCALID:6e4b995071a6ba8374da671431e1a10a
X-WR-TIMEZONE:America/New_York
BEGIN:VTIMEZONE
TZID:America/New_York
BEGIN:STANDARD
TZNAME:EST
DTSTART:20251102T020000
TZOFFSETFROM:-0400
TZOFFSETTO:-0500
RDATE:20261101T020000
RDATE:20271107T020000
END:STANDARD
BEGIN:DAYLIGHT
TZNAME:EDT
DTSTART:20260308T020000
TZOFFSETFROM:-0500
TZOFFSETTO:-0400
RDATE:20270314T020000
END:DAYLIGHT
END:VTIMEZONE
BEGIN:VEVENT
UID:f8e879db-293b-4fe5-9734-21d504145c17
DTSTAMP:20260421T033837Z
DESCRIPTION:Children are naturally inclined to investigate the world around
  them using whatever tools they can think of\, even if that’s their mouth!
  When it comes to science\, discovering fun\, engaging experiences for tod
 dlers can be challenging. Are you looking for something new to try? Join J
 enny to learn more about creating engaging science and discovery experienc
 es in your classroom.\n\nTarget Audience: FG\, IT\, LE\nTrainer: Jenny Spa
 mpinato\nComponent Areas:\nOCFS: 1\, 3\nCBK: 1\, 5\nCDA: C\, G\nFee: Free
 \n
DTSTART;TZID=America/New_York:20260521T183000
DTEND;TZID=America/New_York:20260521T203000
LOCATION:40 Ramland Road\, Suite 209\, Orangeburg\, NY 10962 US
SUMMARY:Let's Talk Science: Enhancing Science Exploration for Toddlers
END:VEVENT
END:VCALENDAR
