BEGIN:VCALENDAR
VERSION:2.0
PRODID:-//childcarerockland.org//NONSGML kigkonsult.se iCalcreator 2.30.10/
 /
CALSCALE:GREGORIAN
METHOD:PUBLISH
UID:b4a43943-cb71-41a6-88db-244590d4385e
X-WR-CALDESC:How is your child care business doing? Do you know who your ta
 rget market is? Do you have a marketing plan? Are you using social media t
 o market your business? Come join CCRR's Business Support Specialist Allis
 on Wojciechowski to learn more about marketing your child care business. 
 \n\nTarget Audience: FG\nTrainer: Allison Wojciechowski \nOCFS: 3\, 5\nCBK
 : 7\nCDA: L\nFee: Free\n\n*Once registered\, the Zoom link will be emailed
  to you.
X-WR-RELCALID:4bcc90ccd111eceadc347f5df47a3306
X-WR-TIMEZONE:America/New_York
BEGIN:VTIMEZONE
TZID:America/New_York
BEGIN:STANDARD
TZNAME:EST
DTSTART:20251102T020000
TZOFFSETFROM:-0400
TZOFFSETTO:-0500
RDATE:20261101T020000
RDATE:20271107T020000
END:STANDARD
BEGIN:DAYLIGHT
TZNAME:EDT
DTSTART:20260308T020000
TZOFFSETFROM:-0500
TZOFFSETTO:-0400
RDATE:20270314T020000
END:DAYLIGHT
END:VTIMEZONE
BEGIN:VEVENT
UID:6dc51d03-b92e-4884-b2e6-ef92590f2fa1
DTSTAMP:20260421T051557Z
DESCRIPTION:How is your child care business doing? Do you know who your tar
 get market is? Do you have a marketing plan? Are you using social media to
  market your business? Come join CCRR's Business Support Specialist Alliso
 n Wojciechowski to learn more about marketing your child care business. \n
 \nTarget Audience: FG\nTrainer: Allison Wojciechowski \nOCFS: 3\, 5\nCBK: 
 7\nCDA: L\nFee: Free\n\n*Once registered\, the Zoom link will be emailed t
 o you.
DTSTART;TZID=America/New_York:20260511T180000
DTEND;TZID=America/New_York:20260511T200000
LOCATION:via Zoom
SUMMARY:Marketing: Let's Get the Word Out
END:VEVENT
END:VCALENDAR
