BEGIN:VCALENDAR
VERSION:2.0
PRODID:-//childcarerockland.org//NONSGML kigkonsult.se iCalcreator 2.30.10/
 /
CALSCALE:GREGORIAN
METHOD:PUBLISH
UID:368772ce-550b-429e-9112-f6d17df9adfe
X-WR-CALDESC:Child Abuse and Maltreatment is a topic that hurts all of us. 
 Through discussion and activities\, we will look at how child care provide
 rs can do their part to identify suspected abuse and maltreatment and docu
 ment observations. We will also take a deeper dive into shaken baby syndro
 me and discuss preventive strategies to reduce the risk. \n\nTarget Audien
 ce: All\nTrainer: Jenny Spampinato\nComponent Areas:\nOCFS: 2\, 6\, 8\, 9
 \nCBK: 5\, 7\nCDA: M\nFee: Free\n\n
X-WR-RELCALID:de9e64b60d02df23c0de0e13efafbb1f
X-WR-TIMEZONE:America/New_York
BEGIN:VTIMEZONE
TZID:America/New_York
BEGIN:STANDARD
TZNAME:EST
DTSTART:20251102T020000
TZOFFSETFROM:-0400
TZOFFSETTO:-0500
RDATE:20261101T020000
END:STANDARD
BEGIN:DAYLIGHT
TZNAME:EDT
DTSTART:20260308T020000
TZOFFSETFROM:-0500
TZOFFSETTO:-0400
RDATE:20270314T020000
END:DAYLIGHT
END:VTIMEZONE
BEGIN:VEVENT
UID:b8a62d28-fdda-48e4-88a2-5e5ae3c43fe9
DTSTAMP:20260421T033704Z
DESCRIPTION:Child Abuse and Maltreatment is a topic that hurts all of us. T
 hrough discussion and activities\, we will look at how child care provider
 s can do their part to identify suspected abuse and maltreatment and docum
 ent observations. We will also take a deeper dive into shaken baby syndrom
 e and discuss preventive strategies to reduce the risk. \n\nTarget Audienc
 e: All\nTrainer: Jenny Spampinato\nComponent Areas:\nOCFS: 2\, 6\, 8\, 9\n
 CBK: 5\, 7\nCDA: M\nFee: Free\n\n
DTSTART;TZID=America/New_York:20260416T183000
DTEND;TZID=America/New_York:20260416T203000
LOCATION:40 Ramland Road\, Suite 209\, Orangeburg\, NY 10962 US
SUMMARY:Preventing Child Abuse\, Maltreatment\, and Shaken Baby Syndrome
END:VEVENT
END:VCALENDAR
