BEGIN:VCALENDAR
VERSION:2.0
PRODID:-//childcarerockland.org//NONSGML kigkonsult.se iCalcreator 2.30.10/
 /
CALSCALE:GREGORIAN
METHOD:PUBLISH
UID:b76fd1f0-cc71-4ce8-832d-05bbf5b7b311
X-WR-CALDESC:How are you paying yourself and your employees? Do you know th
 e basic taxes that need to be withheld and the forms that need to be compl
 eted? Do you know the difference between an employee and an independent co
 ntractor? Come join CCRR’s Business Support Specialist Allison Wojciechows
 ki in learning more about payroll and your child care business. \n\nTarget
  Audience: FG\nTrainer: Allison Wojciechowski \nComponent Areas:\nOCFS: 3\
 , 5\nCBK: 7\nCDA: L\, M\nFee: Free\n\n*Once registered\, the Zoom link wil
 l be emailed to you.
X-WR-RELCALID:582daa9194fe9007fdf8304ae138d92d
X-WR-TIMEZONE:America/New_York
BEGIN:VTIMEZONE
TZID:America/New_York
BEGIN:STANDARD
TZNAME:EST
DTSTART:20251102T020000
TZOFFSETFROM:-0400
TZOFFSETTO:-0500
RDATE:20261101T020000
END:STANDARD
BEGIN:DAYLIGHT
TZNAME:EDT
DTSTART:20260308T020000
TZOFFSETFROM:-0500
TZOFFSETTO:-0400
RDATE:20270314T020000
END:DAYLIGHT
END:VTIMEZONE
BEGIN:VEVENT
UID:383966d5-ccc4-4c43-83a9-2d2b11f368bc
DTSTAMP:20260421T033137Z
DESCRIPTION:How are you paying yourself and your employees? Do you know the
  basic taxes that need to be withheld and the forms that need to be comple
 ted? Do you know the difference between an employee and an independent con
 tractor? Come join CCRR’s Business Support Specialist Allison Wojciechowsk
 i in learning more about payroll and your child care business. \n\nTarget 
 Audience: FG\nTrainer: Allison Wojciechowski \nComponent Areas:\nOCFS: 3\,
  5\nCBK: 7\nCDA: L\, M\nFee: Free\n\n*Once registered\, the Zoom link will
  be emailed to you.
DTSTART;TZID=America/New_York:20260413T180000
DTEND;TZID=America/New_York:20260413T190000
LOCATION:via Zoom
SUMMARY:Let's Talk Payroll!
END:VEVENT
END:VCALENDAR
