BEGIN:VCALENDAR
VERSION:2.0
PRODID:-//childcarerockland.org//NONSGML kigkonsult.se iCalcreator 2.30.10/
 /
CALSCALE:GREGORIAN
METHOD:PUBLISH
UID:9850ae42-42f3-4f0a-9f81-abf4f7503dd3
X-WR-CALDESC:Join a Network Meeting! CCRR Network Meetings provide child ca
 re professionals with the chance to connect with others in the field\; sta
 y on top of trends and data\; and remain informed about the latest news an
 d regulations in child care. \n\nFacilitator: Lucia Montone\nFee: Free\n\n
 Funding is provided by the Office of Children and Family Services (OCFS).
 \n\n*Once registered\, the Zoom link will be emailed to you.
X-WR-RELCALID:9601aac70626610125b71a0420b20bb2
X-WR-TIMEZONE:America/New_York
BEGIN:VTIMEZONE
TZID:America/New_York
BEGIN:STANDARD
TZNAME:EST
DTSTART:20251102T020000
TZOFFSETFROM:-0400
TZOFFSETTO:-0500
RDATE:20261101T020000
END:STANDARD
BEGIN:DAYLIGHT
TZNAME:EDT
DTSTART:20260308T020000
TZOFFSETFROM:-0500
TZOFFSETTO:-0400
RDATE:20270314T020000
END:DAYLIGHT
END:VTIMEZONE
BEGIN:VEVENT
UID:a9ae91d9-a60f-4f06-ac7a-84371bb13516
DTSTAMP:20260421T033204Z
DESCRIPTION:Join a Network Meeting! CCRR Network Meetings provide child car
 e professionals with the chance to connect with others in the field\; stay
  on top of trends and data\; and remain informed about the latest news and
  regulations in child care. \n\nFacilitator: Lucia Montone\nFee: Free\n\nF
 unding is provided by the Office of Children and Family Services (OCFS).\n
 \n*Once registered\, the Zoom link will be emailed to you.
DTSTART;TZID=America/New_York:20260408T183000
DTEND;TZID=America/New_York:20260408T200000
LOCATION:via Zoom
SUMMARY:Provider Network Meeting
END:VEVENT
END:VCALENDAR
