BEGIN:VCALENDAR
VERSION:2.0
PRODID:-//childcarerockland.org//NONSGML kigkonsult.se iCalcreator 2.30.10/
 /
CALSCALE:GREGORIAN
METHOD:PUBLISH
UID:fb704928-1580-49fe-9584-5bfa094eacad
X-WR-CALDESC:Are you struggling with challenging behaviors occurring in the
  classroom? Do you feel you could use some strategies on classroom managem
 ent? Join us to learn more about why children exhibit challenging behavior
 s and how you can develop strategies to ease them by utilizing classroom m
 anagement techniques. \n\nTarget Audience: FG\, PS\, IT\, LE\nTrainer: Jen
 ny Spampinato\nComponent Areas:\nOCFS: 1\, 3\nCBK: 1\, 4\nCDA: F\, L\nFee:
  Free\n\n
X-WR-RELCALID:3d1a476e734652aa160b7858d6118f26
X-WR-TIMEZONE:America/New_York
BEGIN:VTIMEZONE
TZID:America/New_York
BEGIN:STANDARD
TZNAME:EST
DTSTART:20251102T020000
TZOFFSETFROM:-0400
TZOFFSETTO:-0500
RDATE:20261101T020000
END:STANDARD
BEGIN:DAYLIGHT
TZNAME:EDT
DTSTART:20260308T020000
TZOFFSETFROM:-0500
TZOFFSETTO:-0400
RDATE:20270314T020000
END:DAYLIGHT
END:VTIMEZONE
BEGIN:VEVENT
UID:560a91d2-32cc-43c8-868d-84275bd8c771
DTSTAMP:20260421T052305Z
DESCRIPTION:Are you struggling with challenging behaviors occurring in the 
 classroom? Do you feel you could use some strategies on classroom manageme
 nt? Join us to learn more about why children exhibit challenging behaviors
  and how you can develop strategies to ease them by utilizing classroom ma
 nagement techniques. \n\nTarget Audience: FG\, PS\, IT\, LE\nTrainer: Jenn
 y Spampinato\nComponent Areas:\nOCFS: 1\, 3\nCBK: 1\, 4\nCDA: F\, L\nFee: 
 Free\n\n
DTSTART;TZID=America/New_York:20260326T183000
DTEND;TZID=America/New_York:20260326T203000
LOCATION:40 Ramland Road\, Suite 209\, Orangeburg\, NY 10962 US
SUMMARY:All Behaviors Communicate: Addressing Challenging Behaviors While M
 aintaining Classroom Management
END:VEVENT
END:VCALENDAR
