BEGIN:VCALENDAR
VERSION:2.0
PRODID:-//childcarerockland.org//NONSGML kigkonsult.se iCalcreator 2.30.10/
 /
CALSCALE:GREGORIAN
METHOD:PUBLISH
UID:32d6f37b-ff5d-44a0-a940-f19a9d629c40
X-WR-CALDESC:Join this hands-on workshop to explore how children can help s
 hape their learning spaces. Educators will reflect on their current classr
 ooms\, try interactive design activities\, and discover practical strategi
 es to create accessible\, engaging\, and inclusive environments that foste
 r creativity\, independence\, and social interaction. \n\nTarget Audience:
  FG\, PS\, LE\nTrainer: Diahann Darwood\nComponent Areas:\nOCFS: 3\, 4\nCB
 K: 4\, 5\nCDA: C\nFee: $20 members/ $75 non-members\nRegister by calling (
 845) 425-0009 x0.\n\nPayment is required upon registration and a confirmat
 ion of payment will be emailed to you.
X-WR-RELCALID:4bac73dfa6d7113a9108027549bd193a
X-WR-TIMEZONE:America/New_York
BEGIN:VTIMEZONE
TZID:America/New_York
BEGIN:STANDARD
TZNAME:EST
DTSTART:20251102T020000
TZOFFSETFROM:-0400
TZOFFSETTO:-0500
RDATE:20261101T020000
END:STANDARD
BEGIN:DAYLIGHT
TZNAME:EDT
DTSTART:20260308T020000
TZOFFSETFROM:-0500
TZOFFSETTO:-0400
RDATE:20270314T020000
END:DAYLIGHT
END:VTIMEZONE
BEGIN:VEVENT
UID:cf1c5581-7e20-4e1e-a594-78b9df365c58
DTSTAMP:20260421T051936Z
DESCRIPTION:Join this hands-on workshop to explore how children can help sh
 ape their learning spaces. Educators will reflect on their current classro
 oms\, try interactive design activities\, and discover practical strategie
 s to create accessible\, engaging\, and inclusive environments that foster
  creativity\, independence\, and social interaction. \n\nTarget Audience: 
 FG\, PS\, LE\nTrainer: Diahann Darwood\nComponent Areas:\nOCFS: 3\, 4\nCBK
 : 4\, 5\nCDA: C\nFee: $20 members/ $75 non-members\nRegister by calling (8
 45) 425-0009 x0.\n\nPayment is required upon registration and a confirmati
 on of payment will be emailed to you.
DTSTART;TZID=America/New_York:20260324T183000
DTEND;TZID=America/New_York:20260324T203000
LOCATION:40 Ramland Road\, Suite 209\, Orangeburg\, NY 10962 US
SUMMARY:The Third Teacher: Hands-on Learning Environments
END:VEVENT
END:VCALENDAR
