BEGIN:VCALENDAR
VERSION:2.0
PRODID:-//childcarerockland.org//NONSGML kigkonsult.se iCalcreator 2.30.10/
 /
CALSCALE:GREGORIAN
METHOD:PUBLISH
UID:c1a03567-f5de-4c06-8dfd-174e5e959003
X-WR-CALDESC:Join a Network Meeting! CCRR Network Meetings provide child ca
 re professionals with the chance to connect with others in the field\; sta
 y on top of trends and data\; and remain informed about the latest news an
 d regulations in child care. \n\nFacilitator: Lucia Montone\nFee: Free\n\n
 Funding is provided by the Office of Children and Family Services (OCFS)
X-WR-RELCALID:797f6351c46a8e1e14214372ee76eef7
X-WR-TIMEZONE:America/New_York
BEGIN:VTIMEZONE
TZID:America/New_York
BEGIN:STANDARD
TZNAME:EST
DTSTART:20251102T020000
TZOFFSETFROM:-0400
TZOFFSETTO:-0500
RDATE:20261101T020000
END:STANDARD
BEGIN:DAYLIGHT
TZNAME:EDT
DTSTART:20260308T020000
TZOFFSETFROM:-0500
TZOFFSETTO:-0400
RDATE:20270314T020000
END:DAYLIGHT
END:VTIMEZONE
BEGIN:VEVENT
UID:8f31c943-b427-41e4-9b2c-851e56658ba1
DTSTAMP:20260421T052223Z
DESCRIPTION:Join a Network Meeting! CCRR Network Meetings provide child car
 e professionals with the chance to connect with others in the field\; stay
  on top of trends and data\; and remain informed about the latest news and
  regulations in child care. \n\nFacilitator: Lucia Montone\nFee: Free\n\nF
 unding is provided by the Office of Children and Family Services (OCFS)
DTSTART;TZID=America/New_York:20260320T110000
DTEND;TZID=America/New_York:20260320T120000
LOCATION:40 Ramland Road\, Suite 209\, Orangeburg\, NY 10962 US
SUMMARY:CANCELLED - Director Network Meeting
END:VEVENT
END:VCALENDAR
