BEGIN:VCALENDAR
VERSION:2.0
PRODID:-//childcarerockland.org//NONSGML kigkonsult.se iCalcreator 2.30.10/
 /
CALSCALE:GREGORIAN
METHOD:PUBLISH
UID:ca674003-2d79-4b99-a08c-b535e98f5112
X-WR-CALDESC:Are you feeling stressed or overwhelmed? Practicing mindfulnes
 s and self-care routines can help improve emotional well-being and assist 
 in recognizing our own emotional patterns to help others. This allows us t
 o proactively regulate our behavior in response to stressful situations li
 ke challenging behaviors in the classroom. In doing so we are better equip
 ped to manage our emotions\, understand different perspectives\, and help 
 children in the classroom recognize and regulate their own behaviors. \n\n
 Target Audience: FG\, IT\, PS\, SACC\, LE\nTrainer: Roxana Halo\nComponent
  Areas:\nOCFS: 3\nCBK: 6\nCDA: H\, M\nFee: $20 members/ $75 non-members\nR
 egister by calling (845) 425-0009 x0.\n\nPayment is required upon registra
 tion and a confirmation of payment will be emailed to you.
X-WR-RELCALID:f944aedad0ce7962245e5d8b9ef0a8ba
X-WR-TIMEZONE:America/New_York
BEGIN:VTIMEZONE
TZID:America/New_York
BEGIN:STANDARD
TZNAME:EST
DTSTART:20251102T020000
TZOFFSETFROM:-0400
TZOFFSETTO:-0500
RDATE:20261101T020000
END:STANDARD
BEGIN:DAYLIGHT
TZNAME:EDT
DTSTART:20260308T020000
TZOFFSETFROM:-0500
TZOFFSETTO:-0400
RDATE:20270314T020000
END:DAYLIGHT
END:VTIMEZONE
BEGIN:VEVENT
UID:713c69df-5782-4bec-887c-2df37924e99f
DTSTAMP:20260421T052507Z
DESCRIPTION:Are you feeling stressed or overwhelmed? Practicing mindfulness
  and self-care routines can help improve emotional well-being and assist i
 n recognizing our own emotional patterns to help others. This allows us to
  proactively regulate our behavior in response to stressful situations lik
 e challenging behaviors in the classroom. In doing so we are better equipp
 ed to manage our emotions\, understand different perspectives\, and help c
 hildren in the classroom recognize and regulate their own behaviors. \n\nT
 arget Audience: FG\, IT\, PS\, SACC\, LE\nTrainer: Roxana Halo\nComponent 
 Areas:\nOCFS: 3\nCBK: 6\nCDA: H\, M\nFee: $20 members/ $75 non-members\nRe
 gister by calling (845) 425-0009 x0.\n\nPayment is required upon registrat
 ion and a confirmation of payment will be emailed to you.
DTSTART;TZID=America/New_York:20260316T183000
DTEND;TZID=America/New_York:20260316T203000
LOCATION:40 Ramland Road\, Suite 209\, Orangeburg\, NY 10962 US
SUMMARY:Mindfulness and Self-Care: Are You Putting Your Oxygen Mask on Firs
 t?
END:VEVENT
END:VCALENDAR
