BEGIN:VCALENDAR
VERSION:2.0
PRODID:-//childcarerockland.org//NONSGML kigkonsult.se iCalcreator 2.30.10/
 /
CALSCALE:GREGORIAN
METHOD:PUBLISH
UID:7875827f-a32f-4e30-bece-314e594b792f
X-WR-CALDESC:Join a Network Meeting! CCRR Network Meetings provide child ca
 re professionals with the chance to connect with others in the field\; sta
 y on top of trends and data\; and remain informed about the latest news an
 d regulations in child care. Come learn about Empire State Family Child Ca
 re Collaborative.\n\nFacilitator: Diahann Darwood & Allison Wojciechowski
 \nFee: Free\n\nFunding is provided by the Office of Children and Family Se
 rvices (OCFS).\n\n*Once registered\, the Zoom link will be emailed to you.
X-WR-RELCALID:d21b52eda23331125849830a4a130d6b
X-WR-TIMEZONE:America/New_York
BEGIN:VTIMEZONE
TZID:America/New_York
BEGIN:STANDARD
TZNAME:EST
DTSTART:20251102T020000
TZOFFSETFROM:-0400
TZOFFSETTO:-0500
RDATE:20261101T020000
END:STANDARD
BEGIN:DAYLIGHT
TZNAME:EDT
DTSTART:20260308T020000
TZOFFSETFROM:-0500
TZOFFSETTO:-0400
RDATE:20270314T020000
END:DAYLIGHT
END:VTIMEZONE
BEGIN:VEVENT
UID:6b674512-0e48-46d8-8323-bcc379ddd104
DTSTAMP:20260421T052012Z
DESCRIPTION:Join a Network Meeting! CCRR Network Meetings provide child car
 e professionals with the chance to connect with others in the field\; stay
  on top of trends and data\; and remain informed about the latest news and
  regulations in child care. Come learn about Empire State Family Child Car
 e Collaborative.\n\nFacilitator: Diahann Darwood & Allison Wojciechowski\n
 Fee: Free\n\nFunding is provided by the Office of Children and Family Serv
 ices (OCFS).\n\n*Once registered\, the Zoom link will be emailed to you.
DTSTART;TZID=America/New_York:20260311T183000
DTEND;TZID=America/New_York:20260311T200000
LOCATION:via Zoom
SUMMARY:Provider Network Meeting
END:VEVENT
END:VCALENDAR
