BEGIN:VCALENDAR
VERSION:2.0
PRODID:-//childcarerockland.org//NONSGML kigkonsult.se iCalcreator 2.30.10/
 /
CALSCALE:GREGORIAN
METHOD:PUBLISH
UID:5be13b5c-7a85-470c-833a-659d73166132
X-WR-CALDESC:This training helps early childhood staff build strong communi
 cation and classroom management skills. Participants will learn how to spe
 ak clearly and respectfully with children\, parents\, and coworkers\, unde
 rstand the roles of lead and assistant teachers\, handle parent concerns i
 n a professional way\, and use approved strategies to manage behavior in t
 he classroom. \n\nTarget Audience: FG\, IT\, PS\, LE\, D\nTrainer: Jill Ha
 lpern \nComponent Areas:\nOCFS: 3\nCBK: 7\nCDA: C\, M\nFee: $20 members/ $
 75 non-members\nRegister by calling (845) 425-0009 x0.\n\nPayment is requi
 red upon registration and a confirmation of payment will be emailed to you
 .
X-WR-RELCALID:4f9205550b9bbeff76f65f1914a852fe
X-WR-TIMEZONE:America/New_York
BEGIN:VTIMEZONE
TZID:America/New_York
BEGIN:STANDARD
TZNAME:EST
DTSTART:20251102T020000
TZOFFSETFROM:-0400
TZOFFSETTO:-0500
RDATE:20261101T020000
END:STANDARD
BEGIN:DAYLIGHT
TZNAME:EDT
DTSTART:20260308T020000
TZOFFSETFROM:-0500
TZOFFSETTO:-0400
RDATE:20270314T020000
END:DAYLIGHT
END:VTIMEZONE
BEGIN:VEVENT
UID:2182c938-ff52-4e25-a793-aa2490ec36a0
DTSTAMP:20260421T052548Z
DESCRIPTION:This training helps early childhood staff build strong communic
 ation and classroom management skills. Participants will learn how to spea
 k clearly and respectfully with children\, parents\, and coworkers\, under
 stand the roles of lead and assistant teachers\, handle parent concerns in
  a professional way\, and use approved strategies to manage behavior in th
 e classroom. \n\nTarget Audience: FG\, IT\, PS\, LE\, D\nTrainer: Jill Hal
 pern \nComponent Areas:\nOCFS: 3\nCBK: 7\nCDA: C\, M\nFee: $20 members/ $7
 5 non-members\nRegister by calling (845) 425-0009 x0.\n\nPayment is requir
 ed upon registration and a confirmation of payment will be emailed to you.
DTSTART;TZID=America/New_York:20260311T183000
DTEND;TZID=America/New_York:20260311T203000
LOCATION:40 Ramland Road\, Suite 209\, Orangeburg\, NY 10962 US
SUMMARY:Mic Drop Moments: Communication that Manages and Motivates
END:VEVENT
END:VCALENDAR
