BEGIN:VCALENDAR
VERSION:2.0
PRODID:-//childcarerockland.org//NONSGML kigkonsult.se iCalcreator 2.30.10/
 /
CALSCALE:GREGORIAN
METHOD:PUBLISH
UID:efb2393b-8a0e-4e64-9af0-6096d1996425
X-WR-CALDESC:What is CACFP?\nFamily Child Care and Group Family Child Care 
 Providers who wish to participate in the Child and Adult Care Food Program
  (CACFP) are welcome to join our CACFP Coordinator\, Chantel Pittman\, for
  a one hour information session. \nCACFP is federally funded and administe
 red by the NYS Department of Health to reimburse home-based child care pro
 viders. \n\nAttend a FREE recruitment informational session to learn:\n-Pr
 ogram eligibility requirements. \n-How you can be reimbursed for the nutri
 tious meals and snacks you provide to eligible children enrolled in your F
 amily/ Group Family Child Care program. \n-How CACFP can make a difference
  in the quality of your program.\nLE providers may be eligible.\n\nTarget 
 Audience: FG\nLevels: All\nFee: No Charge to Potential CACFP Family/ Group
  Family Child Care Providers and their key staff.   \nTrainer: Chantel Pit
 tman\n(Training Certificates are not provided)\n\nFunding is provided by t
 he Child and Adult Care Food Program (CACFP)
X-WR-RELCALID:d16a744c69d8aa83e7f0c93087a944b5
X-WR-TIMEZONE:America/New_York
BEGIN:VTIMEZONE
TZID:America/New_York
BEGIN:STANDARD
TZNAME:EST
DTSTART:20251102T020000
TZOFFSETFROM:-0400
TZOFFSETTO:-0500
RDATE:20261101T020000
END:STANDARD
BEGIN:DAYLIGHT
TZNAME:EDT
DTSTART:20260308T020000
TZOFFSETFROM:-0500
TZOFFSETTO:-0400
RDATE:20270314T020000
END:DAYLIGHT
END:VTIMEZONE
BEGIN:VEVENT
UID:fc981a1c-85b6-49f4-be97-5b403c8fb436
DTSTAMP:20260421T052132Z
DESCRIPTION:What is CACFP?\nFamily Child Care and Group Family Child Care P
 roviders who wish to participate in the Child and Adult Care Food Program 
 (CACFP) are welcome to join our CACFP Coordinator\, Chantel Pittman\, for 
 a one hour information session. \nCACFP is federally funded and administer
 ed by the NYS Department of Health to reimburse home-based child care prov
 iders. \n\nAttend a FREE recruitment informational session to learn:\n-Pro
 gram eligibility requirements. \n-How you can be reimbursed for the nutrit
 ious meals and snacks you provide to eligible children enrolled in your Fa
 mily/ Group Family Child Care program. \n-How CACFP can make a difference 
 in the quality of your program.\nLE providers may be eligible.\n\nTarget A
 udience: FG\nLevels: All\nFee: No Charge to Potential CACFP Family/ Group 
 Family Child Care Providers and their key staff.   \nTrainer: Chantel Pitt
 man\n(Training Certificates are not provided)\n\nFunding is provided by th
 e Child and Adult Care Food Program (CACFP)
DTSTART;TZID=America/New_York:20260310T113000
DTEND;TZID=America/New_York:20260310T123000
LOCATION:40 Ramland Road\, Suite 209\, Orangeburg\, NY 10962 US
SUMMARY:CACFP Recruitment for Home-Based Providers
END:VEVENT
END:VCALENDAR
