BEGIN:VCALENDAR
VERSION:2.0
PRODID:-//childcarerockland.org//NONSGML kigkonsult.se iCalcreator 2.30.10/
 /
CALSCALE:GREGORIAN
METHOD:PUBLISH
UID:4108c718-6490-4a57-a106-3b3d54abea54
X-WR-CALDESC:Have you considered raising your tuition rates but aren't sure
  where to start? How much should I increase it? How will I notify families
  of the increase? Come join CCRR's Business Support Specialist Allison Woj
 ciechowski and learn more about how to approach this sensitive subject. \n
 \nTarget Audience: FG\nTrainer: Allison Wojciechowski \nComponent Areas:\n
 OCFS: 3\, 5\nCBK: 7\nCDA: L\nFee: Free\n\n*Once registered\, the Zoom link
  will be emailed to you.
X-WR-RELCALID:f34c35a70abff24a1ea41b150ffb67a9
X-WR-TIMEZONE:America/New_York
BEGIN:VTIMEZONE
TZID:America/New_York
BEGIN:STANDARD
TZNAME:EST
DTSTART:20251102T020000
TZOFFSETFROM:-0400
TZOFFSETTO:-0500
RDATE:20261101T020000
END:STANDARD
BEGIN:DAYLIGHT
TZNAME:EDT
DTSTART:20250309T020000
TZOFFSETFROM:-0500
TZOFFSETTO:-0400
RDATE:20260308T020000
RDATE:20270314T020000
END:DAYLIGHT
END:VTIMEZONE
BEGIN:VEVENT
UID:7ed35eac-4105-47e1-b2a9-31f09a71bb5a
DTSTAMP:20260421T052420Z
DESCRIPTION:Have you considered raising your tuition rates but aren't sure 
 where to start? How much should I increase it? How will I notify families 
 of the increase? Come join CCRR's Business Support Specialist Allison Wojc
 iechowski and learn more about how to approach this sensitive subject. \n
 \nTarget Audience: FG\nTrainer: Allison Wojciechowski \nComponent Areas:\n
 OCFS: 3\, 5\nCBK: 7\nCDA: L\nFee: Free\n\n*Once registered\, the Zoom link
  will be emailed to you.
DTSTART;TZID=America/New_York:20260309T180000
DTEND;TZID=America/New_York:20260309T190000
LOCATION:via Zoom
SUMMARY:Tuition Rates: Is it Time to Increase and How do I do That?
END:VEVENT
END:VCALENDAR
