BEGIN:VCALENDAR
VERSION:2.0
PRODID:-//childcarerockland.org//NONSGML kigkonsult.se iCalcreator 2.30.10/
 /
CALSCALE:GREGORIAN
METHOD:PUBLISH
UID:6b44ef87-2822-49b5-8f20-1cd802d7f2a3
X-WR-CALDESC:Join a Network Meeting! CCRR Network Meetings provide child ca
 re professionals with the chance to connect with others in the field\; sta
 y on top of trends and data\; and remain informed about the latest news an
 d regulations in child care. \n\nTarget Audience: D\nFacilitator: Lucia Mo
 ntone\nFee: Free\n\nFunding is provided by the Office of Children and Fami
 ly Services (OCFS)
X-WR-RELCALID:45d2dc45e0dd02395a2219d018fdf46e
X-WR-TIMEZONE:America/New_York
BEGIN:VTIMEZONE
TZID:America/New_York
BEGIN:STANDARD
TZNAME:EST
DTSTART:20251102T020000
TZOFFSETFROM:-0400
TZOFFSETTO:-0500
RDATE:20261101T020000
END:STANDARD
BEGIN:DAYLIGHT
TZNAME:EDT
DTSTART:20250309T020000
TZOFFSETFROM:-0500
TZOFFSETTO:-0400
RDATE:20260308T020000
RDATE:20270314T020000
END:DAYLIGHT
END:VTIMEZONE
BEGIN:VEVENT
UID:f3f5471d-4dee-4612-83ac-9a2c259230ce
DTSTAMP:20260421T065921Z
DESCRIPTION:Join a Network Meeting! CCRR Network Meetings provide child car
 e professionals with the chance to connect with others in the field\; stay
  on top of trends and data\; and remain informed about the latest news and
  regulations in child care. \n\nTarget Audience: D\nFacilitator: Lucia Mon
 tone\nFee: Free\n\nFunding is provided by the Office of Children and Famil
 y Services (OCFS)
DTSTART;TZID=America/New_York:20260220T110000
DTEND;TZID=America/New_York:20260220T120000
LOCATION:40 Ramland Road\, Suite 209\, Orangeburg\, NY 10962 US
SUMMARY:Director Network Meeting
END:VEVENT
END:VCALENDAR
