BEGIN:VCALENDAR
VERSION:2.0
PRODID:-//childcarerockland.org//NONSGML kigkonsult.se iCalcreator 2.30.10/
 /
CALSCALE:GREGORIAN
METHOD:PUBLISH
UID:041bc5dc-3c93-4200-9247-4650ae0ae458
X-WR-CALDESC:Toddlers can be full of big emotions that they do not yet have
  the language to express. As early educators\, it’s important to understan
 d that toddlers do not have the ability to regulate their emotions on thei
 r own and need our help. In this workshop\, we will explore how to help to
 ddlers regulate their emotions and work through tantrums. \n\nTarget Audie
 nce: FG\, IT\, LE\nTrainer: Jenny Spampinato\nComponent Areas:\nOCFS: 1\, 
 3\nCBK: 1\, 4\nCDA: I\, M\nFee: Free\n
X-WR-RELCALID:660c5c888c5e32aa6f55b1643df66903
X-WR-TIMEZONE:America/New_York
BEGIN:VTIMEZONE
TZID:America/New_York
BEGIN:STANDARD
TZNAME:EST
DTSTART:20251102T020000
TZOFFSETFROM:-0400
TZOFFSETTO:-0500
RDATE:20261101T020000
END:STANDARD
BEGIN:DAYLIGHT
TZNAME:EDT
DTSTART:20250309T020000
TZOFFSETFROM:-0500
TZOFFSETTO:-0400
RDATE:20260308T020000
RDATE:20270314T020000
END:DAYLIGHT
END:VTIMEZONE
BEGIN:VEVENT
UID:803e8f82-9af3-4d0b-981f-c2dfde4ad501
DTSTAMP:20260421T072228Z
DESCRIPTION:Toddlers can be full of big emotions that they do not yet have 
 the language to express. As early educators\, it’s important to understand
  that toddlers do not have the ability to regulate their emotions on their
  own and need our help. In this workshop\, we will explore how to help tod
 dlers regulate their emotions and work through tantrums. \n\nTarget Audien
 ce: FG\, IT\, LE\nTrainer: Jenny Spampinato\nComponent Areas:\nOCFS: 1\, 3
 \nCBK: 1\, 4\nCDA: I\, M\nFee: Free\n
DTSTART;TZID=America/New_York:20260219T183000
DTEND;TZID=America/New_York:20260219T203000
LOCATION:40 Ramland Road \, Suite 209\, Orangeburg\, NY 10962 US
SUMMARY:Keeping the Peace: How to Manage Toddler Tantrums
END:VEVENT
END:VCALENDAR
