BEGIN:VCALENDAR
VERSION:2.0
PRODID:-//childcarerockland.org//NONSGML kigkonsult.se iCalcreator 2.30.10/
 /
CALSCALE:GREGORIAN
METHOD:PUBLISH
UID:84dfa443-1a61-4e7e-be11-9802f07de9b2
X-WR-CALDESC:A review of class materials online and a meeting with the trai
 ner to review and practice prior to testing session\, which includes the M
 AT Demonstration Competencies and a written exam. You must review the mate
 rials. Failure to review may result in rescheduling and additional fees.\n
 A certificate for eight training hours will be issued after completion.\nP
 articipants are eligible for a rebate from SUNY Albany Professional Develo
 pment Program.\nContact SUNY for rebate information : (866) 295-9616\n\nTa
 rget Audience: All\nTrainer: Kristin Saunders\nLevel: All\nOCFS: 2\, 3\, 4
 \, 7\nCBK: 5\, 6\, 7\nCDA: A\, B\nFee: $160 members/ $210 non-members* Reb
 ate: $150\n\nIMPORTANT! REGISTRATION PROCEDURE FOR MAT! \nTo register you 
 must first create an account with The Early Childhood Professional Develop
 ment Program (PDP) \nand then register here: www. ecetp.pdp.albany.edu\n\n
 Payment is required upon registration and a confirmation of payment will b
 e emailed to you.
X-WR-RELCALID:5ac8355b94bd4e6a565f9057ab0d248f
X-WR-TIMEZONE:America/New_York
BEGIN:VTIMEZONE
TZID:America/New_York
BEGIN:STANDARD
TZNAME:EST
DTSTART:20251102T020000
TZOFFSETFROM:-0400
TZOFFSETTO:-0500
RDATE:20261101T020000
END:STANDARD
BEGIN:DAYLIGHT
TZNAME:EDT
DTSTART:20250309T020000
TZOFFSETFROM:-0500
TZOFFSETTO:-0400
RDATE:20260308T020000
RDATE:20270314T020000
END:DAYLIGHT
END:VTIMEZONE
BEGIN:VEVENT
UID:1722a715-5c92-40bb-9e02-ec6082f71553
DTSTAMP:20260421T065704Z
DESCRIPTION:A review of class materials online and a meeting with the train
 er to review and practice prior to testing session\, which includes the MA
 T Demonstration Competencies and a written exam. You must review the mater
 ials. Failure to review may result in rescheduling and additional fees.\nA
  certificate for eight training hours will be issued after completion.\nPa
 rticipants are eligible for a rebate from SUNY Albany Professional Develop
 ment Program.\nContact SUNY for rebate information : (866) 295-9616\n\nTar
 get Audience: All\nTrainer: Kristin Saunders\nLevel: All\nOCFS: 2\, 3\, 4\
 , 7\nCBK: 5\, 6\, 7\nCDA: A\, B\nFee: $160 members/ $210 non-members* Reba
 te: $150\n\nIMPORTANT! REGISTRATION PROCEDURE FOR MAT! \nTo register you m
 ust first create an account with The Early Childhood Professional Developm
 ent Program (PDP) \nand then register here: www. ecetp.pdp.albany.edu\n\nP
 ayment is required upon registration and a confirmation of payment will be
  emailed to you.
DTSTART;TZID=America/New_York:20260212T173000
DTEND;TZID=America/New_York:20260212T213000
LOCATION:40 Ramland Road\, Suite 209\, Orangeburg\, NY 10962 US
SUMMARY:Medication Administration Training (MAT) Independent Study
END:VEVENT
END:VCALENDAR
