BEGIN:VCALENDAR
VERSION:2.0
PRODID:-//childcarerockland.org//NONSGML kigkonsult.se iCalcreator 2.30.10/
 /
CALSCALE:GREGORIAN
METHOD:PUBLISH
UID:00385cd8-274d-488d-96ad-03512a7c085c
X-WR-CALDESC:Join a Network Meeting! CCRR Network Meetings provide child ca
 re professionals with the chance to connect with others in the field\; sta
 y on top of trends and data\; and remain informed about the latest news an
 d regulations in child care. Come learn about Empire State Family Child Ca
 re Collaborative. \n\nTarget Audience: FG\nFacilitator: Lucia Montone\nFee
 : Free\n\nFunding is provided by the Office of Children and Family Service
 s (OCFS).\n\n*Once registered\, the Zoom link will be emailed to you.
X-WR-RELCALID:e3e429c00251815c10418de2d526ab1f
X-WR-TIMEZONE:America/New_York
BEGIN:VTIMEZONE
TZID:America/New_York
BEGIN:STANDARD
TZNAME:EST
DTSTART:20251102T020000
TZOFFSETFROM:-0400
TZOFFSETTO:-0500
RDATE:20261101T020000
END:STANDARD
BEGIN:DAYLIGHT
TZNAME:EDT
DTSTART:20250309T020000
TZOFFSETFROM:-0500
TZOFFSETTO:-0400
RDATE:20260308T020000
RDATE:20270314T020000
END:DAYLIGHT
END:VTIMEZONE
BEGIN:VEVENT
UID:25dda45f-921c-4142-b3bb-88584473a5ea
DTSTAMP:20260421T065915Z
DESCRIPTION:Join a Network Meeting! CCRR Network Meetings provide child car
 e professionals with the chance to connect with others in the field\; stay
  on top of trends and data\; and remain informed about the latest news and
  regulations in child care. Come learn about Empire State Family Child Car
 e Collaborative. \n\nTarget Audience: FG\nFacilitator: Lucia Montone\nFee:
  Free\n\nFunding is provided by the Office of Children and Family Services
  (OCFS).\n\n*Once registered\, the Zoom link will be emailed to you.
DTSTART;TZID=America/New_York:20260211T183000
DTEND;TZID=America/New_York:20260211T200000
LOCATION:via Zoom
SUMMARY:Provider Network Meeting
END:VEVENT
END:VCALENDAR
