BEGIN:VCALENDAR
VERSION:2.0
PRODID:-//childcarerockland.org//NONSGML kigkonsult.se iCalcreator 2.30.10/
 /
CALSCALE:GREGORIAN
METHOD:PUBLISH
UID:045c6c16-b1e2-4345-9e68-2e479dd61186
X-WR-CALDESC:This hands-on workshop for early childhood educators explores 
 creative ways to use recycled and repurposed materials in the classroom. D
 iscover how everyday items can spark imagination\, support open-ended play
 \, and promote sustainability. You'll leave with fresh ideas\, practical t
 ips\, and inspiration to turn trash into learning treasures.\n\nTarget Aud
 ience: D\, FG\, LE\, PS\, IT\nTrainer: Diahann Darwood\nComponent Areas:\n
 OCFS: 3\nCBK: 4\nCDA: E\, G\nFee: $20 members/ $75 non-members\nRegister b
 y calling (845) 425-0009 x0\n\nPayment is required upon registration and a
  confirmation of payment will be emailed to you.
X-WR-RELCALID:d252809aa10ddaa2602642b77e62caf1
X-WR-TIMEZONE:America/New_York
BEGIN:VTIMEZONE
TZID:America/New_York
BEGIN:STANDARD
TZNAME:EST
DTSTART:20251102T020000
TZOFFSETFROM:-0400
TZOFFSETTO:-0500
RDATE:20261101T020000
END:STANDARD
BEGIN:DAYLIGHT
TZNAME:EDT
DTSTART:20250309T020000
TZOFFSETFROM:-0500
TZOFFSETTO:-0400
RDATE:20260308T020000
RDATE:20270314T020000
END:DAYLIGHT
END:VTIMEZONE
BEGIN:VEVENT
UID:5ad4b6df-4ee8-48e0-a4ce-e79ae47c6f38
DTSTAMP:20260421T071052Z
DESCRIPTION:This hands-on workshop for early childhood educators explores c
 reative ways to use recycled and repurposed materials in the classroom. Di
 scover how everyday items can spark imagination\, support open-ended play\
 , and promote sustainability. You'll leave with fresh ideas\, practical ti
 ps\, and inspiration to turn trash into learning treasures.\n\nTarget Audi
 ence: D\, FG\, LE\, PS\, IT\nTrainer: Diahann Darwood\nComponent Areas:\nO
 CFS: 3\nCBK: 4\nCDA: E\, G\nFee: $20 members/ $75 non-members\nRegister by
  calling (845) 425-0009 x0\n\nPayment is required upon registration and a 
 confirmation of payment will be emailed to you.
DTSTART;TZID=America/New_York:20260210T183000
DTEND;TZID=America/New_York:20260210T203000
LOCATION:40 Ramland Road\, Suite 209\, Orangeburg\, NY 10962 US
SUMMARY:Trash to Treasure: Reimagine\, Reuse\, Reinvent!
END:VEVENT
END:VCALENDAR
