BEGIN:VCALENDAR
VERSION:2.0
PRODID:-//childcarerockland.org//NONSGML kigkonsult.se iCalcreator 2.30.10/
 /
CALSCALE:GREGORIAN
METHOD:PUBLISH
UID:b8ad0929-34bc-4667-9b0b-278b687cc0fb
X-WR-CALDESC:The Child and Adult Care Food Program (CACFP) is federally fun
 ded and administered by the NYS Department of Health to reimburse home-bas
 ed child care providers. Attend a Mandatory Training. In order to remain i
 n compliance you must attend one Mandatory CACFP Training annually.\n\nTar
 get Audience: FG\nTrainer: Chantel Pittman\nOCFS: 2\nFee: Free\n\nFunding 
 is provided by the Child and Adult Care Food Program (CACFP)\n\n*Once regi
 stered\, the Zoom link will be emailed to you.
X-WR-RELCALID:37aa03d8978f128752f2c6a7a3a4a6df
X-WR-TIMEZONE:America/New_York
BEGIN:VTIMEZONE
TZID:America/New_York
BEGIN:STANDARD
TZNAME:EST
DTSTART:20251102T020000
TZOFFSETFROM:-0400
TZOFFSETTO:-0500
RDATE:20261101T020000
END:STANDARD
BEGIN:DAYLIGHT
TZNAME:EDT
DTSTART:20250309T020000
TZOFFSETFROM:-0500
TZOFFSETTO:-0400
RDATE:20260308T020000
RDATE:20270314T020000
END:DAYLIGHT
END:VTIMEZONE
BEGIN:VEVENT
UID:2e601587-908c-45db-8ebc-f97837bdf925
DTSTAMP:20260421T065956Z
DESCRIPTION:The Child and Adult Care Food Program (CACFP) is federally fund
 ed and administered by the NYS Department of Health to reimburse home-base
 d child care providers. Attend a Mandatory Training. In order to remain in
  compliance you must attend one Mandatory CACFP Training annually.\n\nTarg
 et Audience: FG\nTrainer: Chantel Pittman\nOCFS: 2\nFee: Free\n\nFunding i
 s provided by the Child and Adult Care Food Program (CACFP)\n\n*Once regis
 tered\, the Zoom link will be emailed to you.
DTSTART;TZID=America/New_York:20260204T173000
DTEND;TZID=America/New_York:20260204T193000
LOCATION:via Zoom
SUMMARY:CACFP Mandato﻿ry Training for Home-Based Providers
END:VEVENT
END:VCALENDAR
