BEGIN:VCALENDAR
VERSION:2.0
PRODID:-//childcarerockland.org//NONSGML kigkonsult.se iCalcreator 2.30.10/
 /
CALSCALE:GREGORIAN
METHOD:PUBLISH
UID:ac6f5ce4-9c85-4b88-a563-788263df0125
X-WR-CALDESC:Biting is a common behavior amongst infants and toddlers. Infa
 nts are exploring the world around them and toddlers are coping with a cha
 llenge or need not being met. Join us in discussing reasons for this behav
 ior and how to aid in stopping it from happening. \n\nTarget Audience: FG\
 , IT\, D\nTrainer: Jenny Spampinato\nComponent Areas:\nOCFS: 1\, 3\nCBK: 1
 \, 3\, 4\nCDA: A\, C\nFee: Free\n
X-WR-RELCALID:80a62ff3971e53968c533c275e6400c8
X-WR-TIMEZONE:America/New_York
BEGIN:VTIMEZONE
TZID:America/New_York
BEGIN:STANDARD
TZNAME:EST
DTSTART:20251102T020000
TZOFFSETFROM:-0400
TZOFFSETTO:-0500
RDATE:20261101T020000
END:STANDARD
BEGIN:DAYLIGHT
TZNAME:EDT
DTSTART:20250309T020000
TZOFFSETFROM:-0500
TZOFFSETTO:-0400
RDATE:20260308T020000
RDATE:20270314T020000
END:DAYLIGHT
END:VTIMEZONE
BEGIN:VEVENT
UID:bc4b1d07-b5ea-4b94-8347-a85dae82f719
DTSTAMP:20260421T085243Z
DESCRIPTION:Biting is a common behavior amongst infants and toddlers. Infan
 ts are exploring the world around them and toddlers are coping with a chal
 lenge or need not being met. Join us in discussing reasons for this behavi
 or and how to aid in stopping it from happening. \n\nTarget Audience: FG\,
  IT\, D\nTrainer: Jenny Spampinato\nComponent Areas:\nOCFS: 1\, 3\nCBK: 1\
 , 3\, 4\nCDA: A\, C\nFee: Free\n
DTSTART;TZID=America/New_York:20260122T183000
DTEND;TZID=America/New_York:20260122T203000
LOCATION:40 Ramland Road \, Suite 209\, Orangeburg\, NY 10962 US
SUMMARY:OUCH! Biting Hurts: Why Do Infants and Toddlers Bite?
END:VEVENT
END:VCALENDAR
