BEGIN:VCALENDAR
VERSION:2.0
PRODID:-//childcarerockland.org//NONSGML kigkonsult.se iCalcreator 2.30.10/
 /
CALSCALE:GREGORIAN
METHOD:PUBLISH
UID:99240a95-9cfd-49f2-bba5-200f920cb13e
X-WR-CALDESC:In early childhood education\, lesson planning and learning do
 cumentation are crucial for individualizing learning experiences\, providi
 ng structured and intentional instruction\, ensuring continuity and cohere
 nce\, facilitating assessments and evaluation\, and encouraging cooperatio
 n and communication between educators and parents. \n\nTarget Audience: FG
 \, PS\, LE\nTrainer: Diahann Darwood\nComponent Areas:\nOCFS: 1\, 3\nCBK: 
 1\nCDA: C\, E\, G\nFee: $20 members/ $75 non-members\nRegister by calling 
 (845) 425-0009 x0.\n\nPayment is required upon registration and a confirma
 tion of payment will be emailed to you.
X-WR-RELCALID:ca2ddb101fbb46cf2492dad7b221279c
X-WR-TIMEZONE:America/New_York
BEGIN:VTIMEZONE
TZID:America/New_York
BEGIN:STANDARD
TZNAME:EST
DTSTART:20251102T020000
TZOFFSETFROM:-0400
TZOFFSETTO:-0500
RDATE:20261101T020000
END:STANDARD
BEGIN:DAYLIGHT
TZNAME:EDT
DTSTART:20250309T020000
TZOFFSETFROM:-0500
TZOFFSETTO:-0400
RDATE:20260308T020000
RDATE:20270314T020000
END:DAYLIGHT
END:VTIMEZONE
BEGIN:VEVENT
UID:c046b202-1c5f-448a-aab2-7bc88537ce1a
DTSTAMP:20260421T084437Z
DESCRIPTION:In early childhood education\, lesson planning and learning doc
 umentation are crucial for individualizing learning experiences\, providin
 g structured and intentional instruction\, ensuring continuity and coheren
 ce\, facilitating assessments and evaluation\, and encouraging cooperation
  and communication between educators and parents. \n\nTarget Audience: FG\
 , PS\, LE\nTrainer: Diahann Darwood\nComponent Areas:\nOCFS: 1\, 3\nCBK: 1
 \nCDA: C\, E\, G\nFee: $20 members/ $75 non-members\nRegister by calling (
 845) 425-0009 x0.\n\nPayment is required upon registration and a confirmat
 ion of payment will be emailed to you.
DTSTART;TZID=America/New_York:20260113T183000
DTEND;TZID=America/New_York:20260113T203000
LOCATION:40 Ramland Road\, Suite 209\, Orangeburg\, NY 10962 US
SUMMARY:Do You Have a Plan? Lesson Planning and Documenting Learning in the
  3-5 Year-Old Setting
END:VEVENT
END:VCALENDAR
