BEGIN:VCALENDAR
VERSION:2.0
PRODID:-//childcarerockland.org//NONSGML kigkonsult.se iCalcreator 2.30.10/
 /
CALSCALE:GREGORIAN
METHOD:PUBLISH
UID:a1029fa7-f041-4f2d-93b1-f608a409472d
X-WR-CALDESC:This training will help participants become familiar with the 
 role of a licensor or registrar and how they navigate inspections using NY
 S OCFS regulations. It will also assist participants in gaining a better u
 nderstanding of the NYS OCFS regulations and how to look objectively at th
 eir own program.\n\nTarget Audience: All\nTrainer: Shakia Reynolds\nCompon
 ent Areas:\nOCFS: 3\, 5\, 7\nCBK: 5\, 6\, 7\nCDA: L\, M\nFee: $20 members/
  $75 non-members\nRegister by calling (845) 425-0009 x0.\n\nPayment is req
 uired upon registration and a confirmation of payment will be emailed to y
 ou. A reimbursement check will be issued after completion of the class.
X-WR-RELCALID:9453d012082aedc163845e7db0059c00
X-WR-TIMEZONE:America/New_York
BEGIN:VTIMEZONE
TZID:America/New_York
BEGIN:STANDARD
TZNAME:EST
DTSTART:20251102T020000
TZOFFSETFROM:-0400
TZOFFSETTO:-0500
RDATE:20261101T020000
END:STANDARD
BEGIN:DAYLIGHT
TZNAME:EDT
DTSTART:20250309T020000
TZOFFSETFROM:-0500
TZOFFSETTO:-0400
RDATE:20260308T020000
RDATE:20270314T020000
END:DAYLIGHT
END:VTIMEZONE
BEGIN:VEVENT
UID:9da028ce-64b0-4f26-989e-982741c195a6
DTSTAMP:20260421T102512Z
DESCRIPTION:This training will help participants become familiar with the r
 ole of a licensor or registrar and how they navigate inspections using NYS
  OCFS regulations. It will also assist participants in gaining a better un
 derstanding of the NYS OCFS regulations and how to look objectively at the
 ir own program.\n\nTarget Audience: All\nTrainer: Shakia Reynolds\nCompone
 nt Areas:\nOCFS: 3\, 5\, 7\nCBK: 5\, 6\, 7\nCDA: L\, M\nFee: $20 members/ 
 $75 non-members\nRegister by calling (845) 425-0009 x0.\n\nPayment is requ
 ired upon registration and a confirmation of payment will be emailed to yo
 u. A reimbursement check will be issued after completion of the class.
DTSTART;TZID=America/New_York:20251210T183000
DTEND;TZID=America/New_York:20251210T203000
LOCATION:40 Ramland Road\, Suite 209\, Orangeburg\, NY 10962 US
SUMMARY:Oh No! Not Another Visit: A Guide to Understanding Inspections
END:VEVENT
END:VCALENDAR
