BEGIN:VCALENDAR
VERSION:2.0
PRODID:-//childcarerockland.org//NONSGML kigkonsult.se iCalcreator 2.30.10/
 /
CALSCALE:GREGORIAN
METHOD:PUBLISH
UID:ec0931c8-37af-4f21-8bf5-b4b32bac8473
X-WR-CALDESC:Effective\, competent supervision is the responsibility of all
  adults who care for children. Keeping children safe is priority\, it is o
 ur responsibility to make sure no child is ever left unsupervised. Join us
  to learn how to implement competent supervision strategies into your prog
 ram while considering the children’s physical\, cognitive\, and emotional 
 needs.\n\nTarget Audience: All\nTrainer: Diahann Darwood\nComponent Areas:
 \nOCFS: 3\, 4\nCBK: 5\nCDA: A\, L\nFee: $20 members/ $75 non-members\nRegi
 ster by calling (845) 425-0009 x0.\n\nPayment is required upon registratio
 n and a confirmation of payment will be emailed to you. A reimbursement ch
 eck will be issued after completion of the class.
X-WR-RELCALID:d21fa394e826945a0d0ec224217634a8
X-WR-TIMEZONE:America/New_York
BEGIN:VTIMEZONE
TZID:America/New_York
BEGIN:STANDARD
TZNAME:EST
DTSTART:20251102T020000
TZOFFSETFROM:-0400
TZOFFSETTO:-0500
RDATE:20261101T020000
END:STANDARD
BEGIN:DAYLIGHT
TZNAME:EDT
DTSTART:20250309T020000
TZOFFSETFROM:-0500
TZOFFSETTO:-0400
RDATE:20260308T020000
RDATE:20270314T020000
END:DAYLIGHT
END:VTIMEZONE
BEGIN:VEVENT
UID:ebf34041-18bf-46cb-9ee1-f27c72d0c18b
DTSTAMP:20260421T100912Z
DESCRIPTION:Effective\, competent supervision is the responsibility of all 
 adults who care for children. Keeping children safe is priority\, it is ou
 r responsibility to make sure no child is ever left unsupervised. Join us 
 to learn how to implement competent supervision strategies into your progr
 am while considering the children’s physical\, cognitive\, and emotional n
 eeds.\n\nTarget Audience: All\nTrainer: Diahann Darwood\nComponent Areas:
 \nOCFS: 3\, 4\nCBK: 5\nCDA: A\, L\nFee: $20 members/ $75 non-members\nRegi
 ster by calling (845) 425-0009 x0.\n\nPayment is required upon registratio
 n and a confirmation of payment will be emailed to you. A reimbursement ch
 eck will be issued after completion of the class.
DTSTART;TZID=America/New_York:20251202T183000
DTEND;TZID=America/New_York:20251202T203000
LOCATION:40 Ramland Road\, Suite 209\, Orangeburg\, NY 10962 US
SUMMARY:Pay Attention: Effective and Competent Supervision
END:VEVENT
END:VCALENDAR
