BEGIN:VCALENDAR
VERSION:2.0
PRODID:-//childcarerockland.org//NONSGML kigkonsult.se iCalcreator 2.30.10/
 /
CALSCALE:GREGORIAN
METHOD:PUBLISH
UID:959ba779-a6e4-426d-b654-c506292148d3
X-WR-CALDESC:In observance of Thanksgiving.
X-WR-RELCALID:f7f71c45f2c8ca3b9eb2cf3a30a986f4
X-WR-TIMEZONE:America/New_York
BEGIN:VTIMEZONE
TZID:America/New_York
BEGIN:STANDARD
TZNAME:EST
DTSTART:20251102T020000
TZOFFSETFROM:-0400
TZOFFSETTO:-0500
RDATE:20261101T020000
END:STANDARD
BEGIN:DAYLIGHT
TZNAME:EDT
DTSTART:20250309T020000
TZOFFSETFROM:-0500
TZOFFSETTO:-0400
RDATE:20260308T020000
RDATE:20270314T020000
END:DAYLIGHT
END:VTIMEZONE
BEGIN:VEVENT
UID:5d78e78b-e11d-4b85-90c4-64f7b4c701bd
DTSTAMP:20260421T113819Z
DESCRIPTION:In observance of Thanksgiving.
DTSTART;TZID=America/New_York:20251127T083000
DTEND;TZID=America/New_York:20251127T170000
LOCATION:40 Ramland Road\, Suite 209\, Orangeburg\, NY 10962 US
SUMMARY:CCRR Office Closed
END:VEVENT
END:VCALENDAR
