BEGIN:VCALENDAR
VERSION:2.0
PRODID:-//childcarerockland.org//NONSGML kigkonsult.se iCalcreator 2.30.10/
 /
CALSCALE:GREGORIAN
METHOD:PUBLISH
UID:67ae6309-a74f-4524-88bc-63b96d84e753
X-WR-CALDESC:This hands-on workshop for early childhood educators that expl
 ores creative ways to use recycled and repurposed materials in the classro
 om. Discover how everyday items can spark imagination\, support open-ended
  play\, and promote sustainability. You'll leave with fresh ideas\, practi
 cal tips\, and inspiration to turn trash into learning treasures.\n\nTarge
 t Audience: D\, FG\, LE\, PS\, IT\nTrainer: Diahann Darwood\nComponent Are
 as:\nOCFS: 3\nCBK: 4\nCDA: E\, G\nFee: $20 members/ $75 non-members\nRegis
 ter by calling (845) 425-0009 x0\n\nPayment is required upon registration 
 and a confirmation of payment will be emailed to you. A reimbursement chec
 k will be issued after completion of the class.
X-WR-RELCALID:4c3ed97368995746a2ddcc8b114f3b34
X-WR-TIMEZONE:America/New_York
BEGIN:VTIMEZONE
TZID:America/New_York
BEGIN:STANDARD
TZNAME:EST
DTSTART:20251102T020000
TZOFFSETFROM:-0400
TZOFFSETTO:-0500
RDATE:20261101T020000
END:STANDARD
BEGIN:DAYLIGHT
TZNAME:EDT
DTSTART:20250309T020000
TZOFFSETFROM:-0500
TZOFFSETTO:-0400
RDATE:20260308T020000
RDATE:20270314T020000
END:DAYLIGHT
END:VTIMEZONE
BEGIN:VEVENT
UID:ca5da382-6817-4910-b6f1-8d71ebe44461
DTSTAMP:20260421T113125Z
DESCRIPTION:This hands-on workshop for early childhood educators that explo
 res creative ways to use recycled and repurposed materials in the classroo
 m. Discover how everyday items can spark imagination\, support open-ended 
 play\, and promote sustainability. You'll leave with fresh ideas\, practic
 al tips\, and inspiration to turn trash into learning treasures.\n\nTarget
  Audience: D\, FG\, LE\, PS\, IT\nTrainer: Diahann Darwood\nComponent Area
 s:\nOCFS: 3\nCBK: 4\nCDA: E\, G\nFee: $20 members/ $75 non-members\nRegist
 er by calling (845) 425-0009 x0\n\nPayment is required upon registration a
 nd a confirmation of payment will be emailed to you. A reimbursement check
  will be issued after completion of the class.
DTSTART;TZID=America/New_York:20251118T183000
DTEND;TZID=America/New_York:20251118T203000
LOCATION:40 Ramland Road\, Suite 209\, Orangeburg\, NY 10962 US
SUMMARY:Trash to Treasure: Reimagine\, Reuse\, Reinvent!
END:VEVENT
END:VCALENDAR
