BEGIN:VCALENDAR
VERSION:2.0
PRODID:-//childcarerockland.org//NONSGML kigkonsult.se iCalcreator 2.30.10/
 /
CALSCALE:GREGORIAN
METHOD:PUBLISH
UID:7fbc8c69-002c-44e2-9d1a-66de1f512753
X-WR-CALDESC:This competency-based 15-hour training provides a foundation f
 or practices that promote and protect the health and safety of children in
  home-based child care. Successful completion of this course is required f
 or all new Family Day Care (FDC) or Group Family Day Care (GFDC) applicant
 s in New York State prior to licensure or registration\, as well as for ex
 isting FDC or GFDC providers who change location or modality. This course 
 is required for all new FDC and GFDC providers by NYS OCFS. \n\nThis is a 
 three-day training: November 4th\, November 5th & November 6th. \nA minimu
 m of two fully paid participants are required to hold the training session
  and a refund will be issued if the class is cancelled due to low enrollme
 nt.\n\nTo register\, click on the link provided below in the registration 
 detail section.\n\nTarget Audience: Family/Group Family Providers\nTrainer
 : Shakia Reynolds\nOCFS: 2\, 4\, 5\, 6\, 7\, 8\, 9 \nCBK: 5\, 6\, 7\nCDA: 
 A\, B\, L\nFee: $300\n\nRegistration Details:\n1. Visit www.ecetp.pdp.alba
 ny.edu\n2. If you have an account\, log in using your username and passwor
 d.\n3. If you do not have an account\, create one and then move on to # 4.
 \n4. Once logged in\, select\, “Apply for Health and Safety”\n5. To locate
  the desired training enter Shakia Reynolds or Child Care Resources of Roc
 kland\, Inc. in the keyword search.\n6. This will bring up all the schedul
 ed Health & Safety classes. \n7. Complete any identifying information and 
 confirm that it is all correct.\n8. An email will be sent to the trainer a
 nd someone from our Operations Department will contact you for payment arr
 angements.\n9. After payment is settled\, you will receive an email confir
 ming your registration.\n\nParticipants are required to attend all days in
  order to receive full training credit.
X-WR-RELCALID:c7450a13b0db5f2e0af1beff21d6da43
X-WR-TIMEZONE:America/New_York
BEGIN:VTIMEZONE
TZID:America/New_York
BEGIN:STANDARD
TZNAME:EST
DTSTART:20251102T020000
TZOFFSETFROM:-0400
TZOFFSETTO:-0500
RDATE:20261101T020000
END:STANDARD
BEGIN:DAYLIGHT
TZNAME:EDT
DTSTART:20250309T020000
TZOFFSETFROM:-0500
TZOFFSETTO:-0400
RDATE:20260308T020000
RDATE:20270314T020000
END:DAYLIGHT
END:VTIMEZONE
BEGIN:VEVENT
UID:dd4b839a-e24f-471d-9beb-1fc550753629
DTSTAMP:20260421T114305Z
DESCRIPTION:This competency-based 15-hour training provides a foundation fo
 r practices that promote and protect the health and safety of children in 
 home-based child care. Successful completion of this course is required fo
 r all new Family Day Care (FDC) or Group Family Day Care (GFDC) applicants
  in New York State prior to licensure or registration\, as well as for exi
 sting FDC or GFDC providers who change location or modality. This course i
 s required for all new FDC and GFDC providers by NYS OCFS. \n\nThis is a t
 hree-day training: November 4th\, November 5th & November 6th. \nA minimum
  of two fully paid participants are required to hold the training session 
 and a refund will be issued if the class is cancelled due to low enrollmen
 t.\n\nTo register\, click on the link provided below in the registration d
 etail section.\n\nTarget Audience: Family/Group Family Providers\nTrainer:
  Shakia Reynolds\nOCFS: 2\, 4\, 5\, 6\, 7\, 8\, 9 \nCBK: 5\, 6\, 7\nCDA: A
 \, B\, L\nFee: $300\n\nRegistration Details:\n1. Visit www.ecetp.pdp.alban
 y.edu\n2. If you have an account\, log in using your username and password
 .\n3. If you do not have an account\, create one and then move on to # 4.
 \n4. Once logged in\, select\, “Apply for Health and Safety”\n5. To locate
  the desired training enter Shakia Reynolds or Child Care Resources of Roc
 kland\, Inc. in the keyword search.\n6. This will bring up all the schedul
 ed Health & Safety classes. \n7. Complete any identifying information and 
 confirm that it is all correct.\n8. An email will be sent to the trainer a
 nd someone from our Operations Department will contact you for payment arr
 angements.\n9. After payment is settled\, you will receive an email confir
 ming your registration.\n\nParticipants are required to attend all days in
  order to receive full training credit.
DTSTART;TZID=America/New_York:20251106T093000
DTEND;TZID=America/New_York:20251106T153000
LOCATION:40 Ramland Road\, Suite 209\, Orangeburg\, NY 10962 US
SUMMARY:Health & Safety for Home-Based Providers
END:VEVENT
END:VCALENDAR
