BEGIN:VCALENDAR
VERSION:2.0
PRODID:-//childcarerockland.org//NONSGML kigkonsult.se iCalcreator 2.30.10/
 /
CALSCALE:GREGORIAN
METHOD:PUBLISH
UID:2fde0b85-603d-4ec6-86eb-5ccf77339f37
X-WR-CALDESC:Are you looking to do some strategic planning but don’t know w
 here to start? Are you looking to set goals and want a tool to help in the
  process? How’s your time management? Come join our Business Support Speci
 alist Allison Wojciechowski and learn about different business tools to he
 lp you manage your child care business.\n  \nTarget Audience: FG\, D\nTrai
 ner: Allison Wojciechowski\nComponent Areas:\nOCFS: 3 \nCBK: 6\, 7\nCDA: M
 \nFee: Free\n\n*Once registered\, the Zoom link will be emailed to you.
X-WR-RELCALID:f21c2508f4ad7ecf42170c479e930da0
X-WR-TIMEZONE:America/New_York
BEGIN:VTIMEZONE
TZID:America/New_York
BEGIN:STANDARD
TZNAME:EST
DTSTART:20241103T020000
TZOFFSETFROM:-0400
TZOFFSETTO:-0500
RDATE:20251102T020000
RDATE:20261101T020000
END:STANDARD
BEGIN:DAYLIGHT
TZNAME:EDT
DTSTART:20250309T020000
TZOFFSETFROM:-0500
TZOFFSETTO:-0400
RDATE:20260308T020000
RDATE:20270314T020000
END:DAYLIGHT
END:VTIMEZONE
BEGIN:VEVENT
UID:bc64f94e-28f7-4630-a2fb-af8faf86bdd8
DTSTAMP:20260421T115322Z
DESCRIPTION:Are you looking to do some strategic planning but don’t know wh
 ere to start? Are you looking to set goals and want a tool to help in the 
 process? How’s your time management? Come join our Business Support Specia
 list Allison Wojciechowski and learn about different business tools to hel
 p you manage your child care business.\n  \nTarget Audience: FG\, D\nTrain
 er: Allison Wojciechowski\nComponent Areas:\nOCFS: 3 \nCBK: 6\, 7\nCDA: M
 \nFee: Free\n\n*Once registered\, the Zoom link will be emailed to you.
DTSTART;TZID=America/New_York:20251103T180000
DTEND;TZID=America/New_York:20251103T190000
LOCATION:via Zoom
SUMMARY:Business Leadership in Child Care: Tools for Strategic Planning\, G
 oal Setting\, and Time Management
END:VEVENT
END:VCALENDAR
