BEGIN:VCALENDAR
VERSION:2.0
PRODID:-//childcarerockland.org//NONSGML kigkonsult.se iCalcreator 2.30.10/
 /
CALSCALE:GREGORIAN
METHOD:PUBLISH
UID:d6f1cb59-0bb9-432c-b873-1cd937131026
X-WR-CALDESC:NYS OCFS regulations for all modalities require that every pro
 gram have a person certified in CPR and First Aid on-site at all times. Ce
 rtification is valid for 2 years. As per ARC policy\, we are unable to adm
 it anyone into the class once it has begun. Please be on time! Limited to 
 5 participants. Eligible for EIP Funding.\nPlease note: AED training is in
 cluded.\n\nTarget Audience: All\nTrainer: Diana Santos\nOCFS: 4\nFee: $75 
 members/ $100 non-members\nRegister by calling (845) 425-0009 x0.\n\nPayme
 nt is required upon registration and a confirmation of payment will be ema
 iled to you. A reimbursement check will be issued after completion of the 
 class.
X-WR-RELCALID:527647247bc4e8d77a9509f2f5bf5d14
X-WR-TIMEZONE:America/New_York
BEGIN:VTIMEZONE
TZID:America/New_York
BEGIN:STANDARD
TZNAME:EST
DTSTART:20241103T020000
TZOFFSETFROM:-0400
TZOFFSETTO:-0500
RDATE:20251102T020000
RDATE:20261101T020000
END:STANDARD
BEGIN:DAYLIGHT
TZNAME:EDT
DTSTART:20250309T020000
TZOFFSETFROM:-0500
TZOFFSETTO:-0400
RDATE:20260308T020000
RDATE:20270314T020000
END:DAYLIGHT
END:VTIMEZONE
BEGIN:VEVENT
UID:99743650-088e-4b17-a86e-e35c5359012b
DTSTAMP:20260421T131725Z
DESCRIPTION:NYS OCFS regulations for all modalities require that every prog
 ram have a person certified in CPR and First Aid on-site at all times. Cer
 tification is valid for 2 years. As per ARC policy\, we are unable to admi
 t anyone into the class once it has begun. Please be on time! Limited to 5
  participants. Eligible for EIP Funding.\nPlease note: AED training is inc
 luded.\n\nTarget Audience: All\nTrainer: Diana Santos\nOCFS: 4\nFee: $75 m
 embers/ $100 non-members\nRegister by calling (845) 425-0009 x0.\n\nPaymen
 t is required upon registration and a confirmation of payment will be emai
 led to you. A reimbursement check will be issued after completion of the c
 lass.
DTSTART;TZID=America/New_York:20251029T160000
DTEND;TZID=America/New_York:20251029T183000
LOCATION:40 Ramland Road\, Suite 209\, Orangeburg\, NY 10962 US
SUMMARY:American Red Cross: First Aid - Spanish
END:VEVENT
END:VCALENDAR
