BEGIN:VCALENDAR
VERSION:2.0
PRODID:-//childcarerockland.org//NONSGML kigkonsult.se iCalcreator 2.30.10/
 /
CALSCALE:GREGORIAN
METHOD:PUBLISH
UID:46aec0d9-55bf-44cd-a39d-ba92c2ff1f74
X-WR-CALDESC:This training is designed to empower childcare providers with 
 the knowledge\, skills\, and confidence to support children experiencing d
 evelopmental delays. Participants will learn the fundamentals of child dev
 elopment\, how to recognize signs of delays\, and how to implement inclusi
 ve strategies to foster growth across cognitive\, social\, emotional\, and
  physical domains. \n\nTarget Audience: D\, FG\, IT\, LE\nTrainer: Heidi M
 cCarthy\nOCFS: 1\nCBK: 1\, 2\nCDA: M\nFee: $20 members/ $75 non-members\nR
 egister by calling (845) 425-0009 x0.\n\nPayment is required upon registra
 tion and a confirmation of payment will be emailed to you. A reimbursement
  check will be issued after completion of the class.
X-WR-RELCALID:bba9da35047f0fd0cb93330cd0ac4f73
X-WR-TIMEZONE:America/New_York
BEGIN:VTIMEZONE
TZID:America/New_York
BEGIN:STANDARD
TZNAME:EST
DTSTART:20241103T020000
TZOFFSETFROM:-0400
TZOFFSETTO:-0500
RDATE:20251102T020000
RDATE:20261101T020000
END:STANDARD
BEGIN:DAYLIGHT
TZNAME:EDT
DTSTART:20250309T020000
TZOFFSETFROM:-0500
TZOFFSETTO:-0400
RDATE:20260308T020000
RDATE:20270314T020000
END:DAYLIGHT
END:VTIMEZONE
BEGIN:VEVENT
UID:b44ecdfd-f07f-464b-bcbc-3e1fc604958e
DTSTAMP:20260421T131927Z
DESCRIPTION:This training is designed to empower childcare providers with t
 he knowledge\, skills\, and confidence to support children experiencing de
 velopmental delays. Participants will learn the fundamentals of child deve
 lopment\, how to recognize signs of delays\, and how to implement inclusiv
 e strategies to foster growth across cognitive\, social\, emotional\, and 
 physical domains. \n\nTarget Audience: D\, FG\, IT\, LE\nTrainer: Heidi Mc
 Carthy\nOCFS: 1\nCBK: 1\, 2\nCDA: M\nFee: $20 members/ $75 non-members\nRe
 gister by calling (845) 425-0009 x0.\n\nPayment is required upon registrat
 ion and a confirmation of payment will be emailed to you. A reimbursement 
 check will be issued after completion of the class.
DTSTART;TZID=America/New_York:20251023T183000
DTEND;TZID=America/New_York:20251023T203000
LOCATION:40 Ramland Road\, Suite 209\, Orangeburg\, NY 10962 US
SUMMARY:Supporting Children with Developmental Delays: Strategies for Inclu
 sive Childcare
END:VEVENT
END:VCALENDAR
