BEGIN:VCALENDAR
VERSION:2.0
PRODID:-//childcarerockland.org//NONSGML kigkonsult.se iCalcreator 2.30.10/
 /
CALSCALE:GREGORIAN
METHOD:PUBLISH
UID:a156abaf-66ca-453b-9b5f-4f4603ccebb7
X-WR-CALDESC:This training will teach child care leaders how to delegate ef
 fectively to improve efficiency\, empower staff\, and boost engagement. Pa
 rticipants will learn practical strategies for choosing the right tasks to
  delegate\, matching tasks to team members\, and communicating delegation 
 clearly especially across different generations in the workforce. Activiti
 es and tools will help leaders apply delegation skills immediately in thei
 r programs.\n  \nTarget Audience: D\, SA\, FG\nTrainer: Allison Wojciechow
 ski\nComponent Areas:\nOCFS: 3\, 5\nCBK: 6\, 7\nCDA: M\nFee: Free\n\n*Once
  registered\, the Zoom link will be emailed to you.
X-WR-RELCALID:db18b557ffb774b84ea04635d5f517a8
X-WR-TIMEZONE:America/New_York
BEGIN:VTIMEZONE
TZID:America/New_York
BEGIN:STANDARD
TZNAME:EST
DTSTART:20241103T020000
TZOFFSETFROM:-0400
TZOFFSETTO:-0500
RDATE:20251102T020000
RDATE:20261101T020000
END:STANDARD
BEGIN:DAYLIGHT
TZNAME:EDT
DTSTART:20250309T020000
TZOFFSETFROM:-0500
TZOFFSETTO:-0400
RDATE:20260308T020000
RDATE:20270314T020000
END:DAYLIGHT
END:VTIMEZONE
BEGIN:VEVENT
UID:dd50d55f-c586-421b-901f-384d20d6440d
DTSTAMP:20260421T131757Z
DESCRIPTION:This training will teach child care leaders how to delegate eff
 ectively to improve efficiency\, empower staff\, and boost engagement. Par
 ticipants will learn practical strategies for choosing the right tasks to 
 delegate\, matching tasks to team members\, and communicating delegation c
 learly especially across different generations in the workforce. Activitie
 s and tools will help leaders apply delegation skills immediately in their
  programs.\n  \nTarget Audience: D\, SA\, FG\nTrainer: Allison Wojciechows
 ki\nComponent Areas:\nOCFS: 3\, 5\nCBK: 6\, 7\nCDA: M\nFee: Free\n\n*Once 
 registered\, the Zoom link will be emailed to you.
DTSTART;TZID=America/New_York:20251020T180000
DTEND;TZID=America/New_York:20251020T190000
LOCATION:via Zoom
SUMMARY:Letting Go! Delegating as a Leader in Child Care
END:VEVENT
END:VCALENDAR
