BEGIN:VCALENDAR
VERSION:2.0
PRODID:-//childcarerockland.org//NONSGML kigkonsult.se iCalcreator 2.30.10/
 /
CALSCALE:GREGORIAN
METHOD:PUBLISH
UID:bcfd897f-2f54-461c-8128-ad888f45c93e
X-WR-CALDESC:Join a Network Meeting! CCRR Network Meetings provide child ca
 re professionals with the chance to connect with others in the field\; sta
 y on top of trends and data\; and remain informed about the latest news an
 d regulations in child care. \n\nFacilitator: Heidi McCarthy\nFee: Free\n
 \nFunding is provided by the Office of Children and Family Services (OCFS)
X-WR-RELCALID:266c5620a46734db05f53019224cfd07
X-WR-TIMEZONE:America/New_York
BEGIN:VTIMEZONE
TZID:America/New_York
BEGIN:STANDARD
TZNAME:EST
DTSTART:20241103T020000
TZOFFSETFROM:-0400
TZOFFSETTO:-0500
RDATE:20251102T020000
RDATE:20261101T020000
END:STANDARD
BEGIN:DAYLIGHT
TZNAME:EDT
DTSTART:20250309T020000
TZOFFSETFROM:-0500
TZOFFSETTO:-0400
RDATE:20260308T020000
RDATE:20270314T020000
END:DAYLIGHT
END:VTIMEZONE
BEGIN:VEVENT
UID:10dfa2b6-2e12-4559-867e-1aad4d6369b7
DTSTAMP:20260421T131529Z
DESCRIPTION:Join a Network Meeting! CCRR Network Meetings provide child car
 e professionals with the chance to connect with others in the field\; stay
  on top of trends and data\; and remain informed about the latest news and
  regulations in child care. \n\nFacilitator: Heidi McCarthy\nFee: Free\n\n
 Funding is provided by the Office of Children and Family Services (OCFS)
DTSTART;TZID=America/New_York:20251017T110000
DTEND;TZID=America/New_York:20251017T120000
LOCATION:40 Ramland Road\, Suite 209\, Orangeburg\, NY 10962 US
SUMMARY:Director Network Meeting
END:VEVENT
END:VCALENDAR
