BEGIN:VCALENDAR
VERSION:2.0
PRODID:-//childcarerockland.org//NONSGML kigkonsult.se iCalcreator 2.30.10/
 /
CALSCALE:GREGORIAN
METHOD:PUBLISH
UID:a502a7e1-be77-48d9-92a7-ba4ab8f0a153
X-WR-CALDESC:Participants will gain a comprehensive understanding of what i
 s required during an inspection. Attendees will have the opportunity to wo
 rk both in small groups and have large group discussions on what is to be 
 expected.\n\nTarget Audience: FG\, D\, IT\, PS\, SA\nTrainer: Jill Halpern
 \nComponent Areas:\nOCFS: 7\nCBK: 7\nCDA: M\nFee: $20 members/ $75 non-mem
 bers\nRegister by calling (845) 425-0009 x0.\n\nPayment is required upon r
 egistration and a confirmation of payment will be emailed to you. A reimbu
 rsement check will be issued after completion of the class.
X-WR-RELCALID:3ef9af8849bb3cc8e536398f83884424
X-WR-TIMEZONE:America/New_York
BEGIN:VTIMEZONE
TZID:America/New_York
BEGIN:STANDARD
TZNAME:EST
DTSTART:20241103T020000
TZOFFSETFROM:-0400
TZOFFSETTO:-0500
RDATE:20251102T020000
RDATE:20261101T020000
END:STANDARD
BEGIN:DAYLIGHT
TZNAME:EDT
DTSTART:20250309T020000
TZOFFSETFROM:-0500
TZOFFSETTO:-0400
RDATE:20260308T020000
RDATE:20270314T020000
END:DAYLIGHT
END:VTIMEZONE
BEGIN:VEVENT
UID:ece35b77-d745-408f-9876-abee420049d1
DTSTAMP:20260421T131224Z
DESCRIPTION:Participants will gain a comprehensive understanding of what is
  required during an inspection. Attendees will have the opportunity to wor
 k both in small groups and have large group discussions on what is to be e
 xpected.\n\nTarget Audience: FG\, D\, IT\, PS\, SA\nTrainer: Jill Halpern
 \nComponent Areas:\nOCFS: 7\nCBK: 7\nCDA: M\nFee: $20 members/ $75 non-mem
 bers\nRegister by calling (845) 425-0009 x0.\n\nPayment is required upon r
 egistration and a confirmation of payment will be emailed to you. A reimbu
 rsement check will be issued after completion of the class.
DTSTART;TZID=America/New_York:20251015T183000
DTEND;TZID=America/New_York:20251015T203000
LOCATION:40 Ramland Road\, Suite 209\, Orangeburg\, NY 10962 US
SUMMARY:Inspection Ready!
END:VEVENT
END:VCALENDAR
