BEGIN:VCALENDAR
VERSION:2.0
PRODID:-//childcarerockland.org//NONSGML kigkonsult.se iCalcreator 2.30.10/
 /
CALSCALE:GREGORIAN
METHOD:PUBLISH
UID:7ea5e1e7-f1bd-4bf8-a3d7-4dcf9102c8be
X-WR-CALDESC:This eight hour course is taught in the classroom over two-day
 s. Participants will be tested on the three MAT demonstration competencies
 : Liquid Measure\, Randomized Skills\, and the administration of the epine
 phrine auto-injectors (EpiPen and Auvi-Q). A written test is given the las
 t day of the class. A certificate for eight training hours will be issued 
 after completion.\nParticipants are eligible for a rebate from SUNY Albany
  Professional Development Program.\nContact SUNY for rebate information : 
 (866) 295-9616\n\nTarget Audience: All \nTrainer: Kristin Saunders\nLevel:
  All\nOCFS: 2\, 3\, 4\, 7                 \nCBK: 5\, 6\, 7               
 \nCDA: A\, B\nFee: $240 members/ $300 non-members * Rebate: $240\n\nIMPORT
 ANT! REGISTRATION PROCEDURE FOR MAT! \nTo register you must first create a
 n account with The Early Childhood Professional Development Program (PDP) 
 \nand then register here: www. ecetp.pdp.albany.edu\n\nPayment is required
  upon registration and a confirmation of payment will be emailed to you. A
  reimbursement check will be issued after completion of the class.
X-WR-RELCALID:a1c9ccfb26964df098a417b643ad407d
X-WR-TIMEZONE:America/New_York
BEGIN:VTIMEZONE
TZID:America/New_York
BEGIN:STANDARD
TZNAME:EST
DTSTART:20241103T020000
TZOFFSETFROM:-0400
TZOFFSETTO:-0500
RDATE:20251102T020000
RDATE:20261101T020000
END:STANDARD
BEGIN:DAYLIGHT
TZNAME:EDT
DTSTART:20250309T020000
TZOFFSETFROM:-0500
TZOFFSETTO:-0400
RDATE:20260308T020000
RDATE:20270314T020000
END:DAYLIGHT
END:VTIMEZONE
BEGIN:VEVENT
UID:c0337112-b37c-49a5-9159-6ae04eb5a8f4
DTSTAMP:20260421T131111Z
DESCRIPTION:This eight hour course is taught in the classroom over two-days
 . Participants will be tested on the three MAT demonstration competencies:
  Liquid Measure\, Randomized Skills\, and the administration of the epinep
 hrine auto-injectors (EpiPen and Auvi-Q). A written test is given the last
  day of the class. A certificate for eight training hours will be issued a
 fter completion.\nParticipants are eligible for a rebate from SUNY Albany 
 Professional Development Program.\nContact SUNY for rebate information : (
 866) 295-9616\n\nTarget Audience: All \nTrainer: Kristin Saunders\nLevel: 
 All\nOCFS: 2\, 3\, 4\, 7                 \nCBK: 5\, 6\, 7               \n
 CDA: A\, B\nFee: $240 members/ $300 non-members * Rebate: $240\n\nIMPORTAN
 T! REGISTRATION PROCEDURE FOR MAT! \nTo register you must first create an 
 account with The Early Childhood Professional Development Program (PDP) \n
 and then register here: www. ecetp.pdp.albany.edu\n\nPayment is required u
 pon registration and a confirmation of payment will be emailed to you. A r
 eimbursement check will be issued after completion of the class.
DTSTART;TZID=America/New_York:20251014T173000
DTEND;TZID=America/New_York:20251014T213000
LOCATION:40 Ramland Road\, Suite 209\, Orangeburg\, NY 10962 US
SUMMARY:Medication Administration Training (MAT) Classroom Course - Day 1
END:VEVENT
END:VCALENDAR
