BEGIN:VCALENDAR
VERSION:2.0
PRODID:-//childcarerockland.org//NONSGML kigkonsult.se iCalcreator 2.30.10/
 /
CALSCALE:GREGORIAN
METHOD:PUBLISH
UID:c1aa5869-e395-46cb-8ee9-da43c5a96abf
X-WR-CALDESC:Join a Network Meeting! CCRR Network Meetings provide child ca
 re professionals with the chance to connect with others in the field\; sta
 y on top of trends and data\; and remain informed about the latest news an
 d regulations in child care. \n\nFacilitator: Heidi McCarthy\nFee: Free\n
 \nFunding is provided by the Office of Children and Family Services (OCFS)
 .\n\n*Once registered\, the Zoom link will be emailed to you.
X-WR-RELCALID:d08afb7f70d8aa03cc5347e5f23e86ed
X-WR-TIMEZONE:America/New_York
BEGIN:VTIMEZONE
TZID:America/New_York
BEGIN:STANDARD
TZNAME:EST
DTSTART:20241103T020000
TZOFFSETFROM:-0400
TZOFFSETTO:-0500
RDATE:20251102T020000
RDATE:20261101T020000
END:STANDARD
BEGIN:DAYLIGHT
TZNAME:EDT
DTSTART:20250309T020000
TZOFFSETFROM:-0500
TZOFFSETTO:-0400
RDATE:20260308T020000
RDATE:20270314T020000
END:DAYLIGHT
END:VTIMEZONE
BEGIN:VEVENT
UID:821eaca6-6d01-4d73-a7ed-5c6f2dd6f624
DTSTAMP:20260421T131235Z
DESCRIPTION:Join a Network Meeting! CCRR Network Meetings provide child car
 e professionals with the chance to connect with others in the field\; stay
  on top of trends and data\; and remain informed about the latest news and
  regulations in child care. \n\nFacilitator: Heidi McCarthy\nFee: Free\n\n
 Funding is provided by the Office of Children and Family Services (OCFS).
 \n\n*Once registered\, the Zoom link will be emailed to you.
DTSTART;TZID=America/New_York:20251008T183000
DTEND;TZID=America/New_York:20251008T200000
LOCATION:via Zoom
SUMMARY:Provider Network Meeting
END:VEVENT
END:VCALENDAR
