BEGIN:VCALENDAR
VERSION:2.0
PRODID:-//childcarerockland.org//NONSGML kigkonsult.se iCalcreator 2.30.10/
 /
CALSCALE:GREGORIAN
METHOD:PUBLISH
UID:34d3154f-b4ee-4d3b-ae34-0ae7488d9e22
X-WR-CALDESC:Positive discipline is a program that helps parents use kindne
 ss and firmness to develop mutually respectful relationships with their ch
 ildren and change behaviors for good. In this workshop\, you will learn ho
 w positive discipline can benefit your child's behavior\, well-being\, and
  relationship with your child in care. It will also provide practical ways
  to implement positive discipline with your children at home.\n\nTarget Au
 dience: FG\, IT\, PS\, D\, SA\nTrainer: Roxana Halo\nComponent Areas:\nOCF
 S: 1\, 3\nCBK: 1\nCDA: F\nFee: $20 members/ $75 non-members\nRegister by c
 alling (845) 425-0009 x0\n\nPayment is required upon registration and a co
 nfirmation of payment will be emailed to you. A reimbursement check will b
 e issued after completion of the class.
X-WR-RELCALID:2c017d23afa7b21755d15fa1f78ea21c
X-WR-TIMEZONE:America/New_York
BEGIN:VTIMEZONE
TZID:America/New_York
BEGIN:STANDARD
TZNAME:EST
DTSTART:20241103T020000
TZOFFSETFROM:-0400
TZOFFSETTO:-0500
RDATE:20251102T020000
RDATE:20261101T020000
END:STANDARD
BEGIN:DAYLIGHT
TZNAME:EDT
DTSTART:20250309T020000
TZOFFSETFROM:-0500
TZOFFSETTO:-0400
RDATE:20260308T020000
RDATE:20270314T020000
END:DAYLIGHT
END:VTIMEZONE
BEGIN:VEVENT
UID:bf2517f6-2765-4eca-87bf-64a9b3ea0eda
DTSTAMP:20260421T131858Z
DESCRIPTION:Positive discipline is a program that helps parents use kindnes
 s and firmness to develop mutually respectful relationships with their chi
 ldren and change behaviors for good. In this workshop\, you will learn how
  positive discipline can benefit your child's behavior\, well-being\, and 
 relationship with your child in care. It will also provide practical ways 
 to implement positive discipline with your children at home.\n\nTarget Aud
 ience: FG\, IT\, PS\, D\, SA\nTrainer: Roxana Halo\nComponent Areas:\nOCFS
 : 1\, 3\nCBK: 1\nCDA: F\nFee: $20 members/ $75 non-members\nRegister by ca
 lling (845) 425-0009 x0\n\nPayment is required upon registration and a con
 firmation of payment will be emailed to you. A reimbursement check will be
  issued after completion of the class.
DTSTART;TZID=America/New_York:20251001T183000
DTEND;TZID=America/New_York:20251001T193000
LOCATION:40 Ramland Road\, Suite 209\, Orangeburg\, NY 10962 US
SUMMARY:Positive Discipline: Discipline Children with Love
END:VEVENT
END:VCALENDAR
