BEGIN:VCALENDAR
VERSION:2.0
PRODID:-//childcarerockland.org//NONSGML kigkonsult.se iCalcreator 2.30.10/
 /
CALSCALE:GREGORIAN
METHOD:PUBLISH
UID:7b817bb1-6dcc-4800-9239-9df2f227ab8a
X-WR-CALDESC:This hands-on course helps preschool educators explore and int
 egrate math concepts into daily routines and play. Based on the NYS Prekin
 dergarten Math Standards\, participants will engage in fun\, practical act
 ivities and leave with ready-to-use strategies for building early numeracy
  in the classroom.\n\nTarget Audience: PS\, FG\, D\, LE\nTrainer: Diahann 
 Darwood\nComponent Areas:\nOCFS: 3\nCBK: 2\nCDA: E\nFee: $20 members/ $75 
 non-members\nRegister by calling (845) 425-0009 x0\n\nPayment is required 
 upon registration and a confirmation of payment will be emailed to you. A 
 reimbursement check will be issued after completion of the class.
X-WR-RELCALID:10f705c3b2589f05261555c34ae93169
X-WR-TIMEZONE:America/New_York
BEGIN:VTIMEZONE
TZID:America/New_York
BEGIN:STANDARD
TZNAME:EST
DTSTART:20241103T020000
TZOFFSETFROM:-0400
TZOFFSETTO:-0500
RDATE:20251102T020000
RDATE:20261101T020000
END:STANDARD
BEGIN:DAYLIGHT
TZNAME:EDT
DTSTART:20250309T020000
TZOFFSETFROM:-0500
TZOFFSETTO:-0400
RDATE:20260308T020000
RDATE:20270314T020000
END:DAYLIGHT
END:VTIMEZONE
BEGIN:VEVENT
UID:883e2c02-8d11-45bb-b171-84ed775245f2
DTSTAMP:20260421T145515Z
DESCRIPTION:This hands-on course helps preschool educators explore and inte
 grate math concepts into daily routines and play. Based on the NYS Prekind
 ergarten Math Standards\, participants will engage in fun\, practical acti
 vities and leave with ready-to-use strategies for building early numeracy 
 in the classroom.\n\nTarget Audience: PS\, FG\, D\, LE\nTrainer: Diahann D
 arwood\nComponent Areas:\nOCFS: 3\nCBK: 2\nCDA: E\nFee: $20 members/ $75 n
 on-members\nRegister by calling (845) 425-0009 x0\n\nPayment is required u
 pon registration and a confirmation of payment will be emailed to you. A r
 eimbursement check will be issued after completion of the class.
DTSTART;TZID=America/New_York:20250930T183000
DTEND;TZID=America/New_York:20250930T203000
LOCATION:40 Ramland Road\, Suite 209\, Orangeburg\, NY 10962 US
SUMMARY:Count Me In! Meaningful Math Moments in Early Childhood
END:VEVENT
END:VCALENDAR
