BEGIN:VCALENDAR
VERSION:2.0
PRODID:-//childcarerockland.org//NONSGML kigkonsult.se iCalcreator 2.30.10/
 /
CALSCALE:GREGORIAN
METHOD:PUBLISH
UID:7ca7a197-6a94-4f8f-9b2b-e43eeca87272
X-WR-CALDESC:- Join us at our Annual Meeting where we will review our achie
 vements of the past year and discuss plans for the future.\n\n- Your prese
 nce and insights are invaluable to us as we strive to provide the best car
 e and support to the children and families in our community.\n\n- In addit
 ion to the Annual Meeting\, join us for a special opportunity to hear from
  and meet Dr. Susan Hoerter\, Rockland County's Acting Commissioner of Men
 tal Health.\n \n\nA complimentary Continental breakfast will be served.\nR
 egistration is required.
X-WR-RELCALID:a2cd310ec526cf1ae201d9390831d170
X-WR-TIMEZONE:America/New_York
BEGIN:VTIMEZONE
TZID:America/New_York
BEGIN:STANDARD
TZNAME:EST
DTSTART:20241103T020000
TZOFFSETFROM:-0400
TZOFFSETTO:-0500
RDATE:20251102T020000
RDATE:20261101T020000
END:STANDARD
BEGIN:DAYLIGHT
TZNAME:EDT
DTSTART:20250309T020000
TZOFFSETFROM:-0500
TZOFFSETTO:-0400
RDATE:20260308T020000
RDATE:20270314T020000
END:DAYLIGHT
END:VTIMEZONE
BEGIN:VEVENT
UID:bf5223d5-2a75-45a7-9a2f-809848967499
DTSTAMP:20260421T145508Z
DESCRIPTION:- Join us at our Annual Meeting where we will review our achiev
 ements of the past year and discuss plans for the future.\n\n- Your presen
 ce and insights are invaluable to us as we strive to provide the best care
  and support to the children and families in our community.\n\n- In additi
 on to the Annual Meeting\, join us for a special opportunity to hear from 
 and meet Dr. Susan Hoerter\, Rockland County's Acting Commissioner of Ment
 al Health.\n \n\nA complimentary Continental breakfast will be served.\nRe
 gistration is required.
DTSTART;TZID=America/New_York:20250929T080000
DTEND;TZID=America/New_York:20250929T093000
LOCATION:Rockland Community College\, Technology Center-Dr. Edmund Gordon E
 llipse Room\, 145 College Road\, Suffern\, NY 10901 US
SUMMARY:CCRR's Annual Meeting
END:VEVENT
END:VCALENDAR
