BEGIN:VCALENDAR
VERSION:2.0
PRODID:-//childcarerockland.org//NONSGML kigkonsult.se iCalcreator 2.30.10/
 /
CALSCALE:GREGORIAN
METHOD:PUBLISH
UID:24d53d5b-50a5-4331-adcc-802b16fe0a36
X-WR-CALDESC:Join a Network Meeting! CCRR Network Meetings provide child ca
 re professionals with the chance to connect with others in the field\; sta
 y on top of trends and data\; and remain informed about the latest news an
 d regulations in child care. \n\nFacilitator: Heidi McCarthy\nFee: Free\n
 \nFunding is provided by the Office of Children and Family Services (OCFS)
X-WR-RELCALID:760ae226e4cbbcac6612d34a65a77d31
X-WR-TIMEZONE:America/New_York
BEGIN:VTIMEZONE
TZID:America/New_York
BEGIN:STANDARD
TZNAME:EST
DTSTART:20241103T020000
TZOFFSETFROM:-0400
TZOFFSETTO:-0500
RDATE:20251102T020000
RDATE:20261101T020000
END:STANDARD
BEGIN:DAYLIGHT
TZNAME:EDT
DTSTART:20250309T020000
TZOFFSETFROM:-0500
TZOFFSETTO:-0400
RDATE:20260308T020000
RDATE:20270314T020000
END:DAYLIGHT
END:VTIMEZONE
BEGIN:VEVENT
UID:0b2f6cba-1cb4-4b8f-b279-c7b417e52a20
DTSTAMP:20260421T144813Z
DESCRIPTION:Join a Network Meeting! CCRR Network Meetings provide child car
 e professionals with the chance to connect with others in the field\; stay
  on top of trends and data\; and remain informed about the latest news and
  regulations in child care. \n\nFacilitator: Heidi McCarthy\nFee: Free\n\n
 Funding is provided by the Office of Children and Family Services (OCFS)
DTSTART;TZID=America/New_York:20250926T110000
DTEND;TZID=America/New_York:20250926T120000
LOCATION:40 Ramland Road\, Suite 209\, Orangeburg\, NY 10962 US
SUMMARY:Director Network Meeting
END:VEVENT
END:VCALENDAR
