BEGIN:VCALENDAR
VERSION:2.0
PRODID:-//childcarerockland.org//NONSGML kigkonsult.se iCalcreator 2.30.10/
 /
CALSCALE:GREGORIAN
METHOD:PUBLISH
UID:9b231de8-700b-4402-9630-26cd918e617d
X-WR-CALDESC:In observance of Labor Day.
X-WR-RELCALID:adc44e3b843928bbe6671eb3d9662463
X-WR-TIMEZONE:America/New_York
BEGIN:VTIMEZONE
TZID:America/New_York
BEGIN:STANDARD
TZNAME:EST
DTSTART:20241103T020000
TZOFFSETFROM:-0400
TZOFFSETTO:-0500
RDATE:20251102T020000
RDATE:20261101T020000
END:STANDARD
BEGIN:DAYLIGHT
TZNAME:EDT
DTSTART:20250309T020000
TZOFFSETFROM:-0500
TZOFFSETTO:-0400
RDATE:20260308T020000
END:DAYLIGHT
END:VTIMEZONE
BEGIN:VEVENT
UID:01ab1a18-195b-40a8-9289-2ce1aa1e3eb9
DTSTAMP:20260421T144654Z
DESCRIPTION:In observance of Labor Day.
DTSTART;TZID=America/New_York:20250901T083000
DTEND;TZID=America/New_York:20250901T170000
LOCATION:40 Ramland Road\, Suite 209\, Orangeburg\, NY 10962 US
SUMMARY:CCRR Office Closed
END:VEVENT
END:VCALENDAR
