BEGIN:VCALENDAR
VERSION:2.0
PRODID:-//childcarerockland.org//NONSGML kigkonsult.se iCalcreator 2.30.10/
 /
CALSCALE:GREGORIAN
METHOD:PUBLISH
UID:323130a2-1e3e-4997-a060-ed83c7d8d3ea
X-WR-CALDESC:This competency-based 15-hour training provides a foundation f
 or practices that promote and protect the health and safety of children in
  home-based child care. Successful completion of this course is required f
 or all new Family Day Care (FDC) or Group Family Day Care (GFDC) applicant
 s in New York State prior to licensure or registration\, as well as for ex
 isting FDC or GFDC providers who change location or modality. This course 
 is required for all new FDC and GFDC providers by NYS OCFS. \n\nThis is a 
 three-day training: August 19th\, August 20th & August 21st. \nA minimum o
 f two fully paid participants are required to hold the training session an
 d a refund will be issued if the class is cancelled due to low enrollment.
 \n\nTo register\, click on the link provided below in the registration det
 ail section.\n\nTarget Audience: Family/Group Family Providers\nTrainer: S
 hakia Reynolds\nOCFS: 2\, 4\, 5\, 6\, 7\, 8\, 9 \nCBK: 5\, 6\, 7\nCDA: A\,
  B\, L\nFee: $300\n\nRegistration Details:\n1. Visit www.ecetp.pdp.albany.
 edu\n2. If you have an account\, log in using your username and password.
 \n3. If you do not have an account\, create one and then move on to # 4.\n
 4. Once logged in\, select\, “Apply for Health and Safety”\n5. To locate t
 he desired training enter Shakia Reynolds or Child Care Resources of Rockl
 and\, Inc. in the keyword search.\n6. This will bring up all the scheduled
  Health & Safety classes. \n7. Complete any identifying information and co
 nfirm that it is all correct.\n8. An email will be sent to the trainer and
  someone from our Operations Department will contact you for payment arran
 gements.\n9. After payment is settled\, you will receive an email confirmi
 ng your registration.\n\nParticipants are required to attend all days in o
 rder to receive full training credit.
X-WR-RELCALID:f6bcd9351afb0b92941bbfb772140e20
X-WR-TIMEZONE:America/New_York
BEGIN:VTIMEZONE
TZID:America/New_York
BEGIN:STANDARD
TZNAME:EST
DTSTART:20241103T020000
TZOFFSETFROM:-0400
TZOFFSETTO:-0500
RDATE:20251102T020000
RDATE:20261101T020000
END:STANDARD
BEGIN:DAYLIGHT
TZNAME:EDT
DTSTART:20250309T020000
TZOFFSETFROM:-0500
TZOFFSETTO:-0400
RDATE:20260308T020000
END:DAYLIGHT
END:VTIMEZONE
BEGIN:VEVENT
UID:f82a7bf9-d32d-4a5f-8da9-58fe8fc7ee28
DTSTAMP:20260421T162108Z
DESCRIPTION:This competency-based 15-hour training provides a foundation fo
 r practices that promote and protect the health and safety of children in 
 home-based child care. Successful completion of this course is required fo
 r all new Family Day Care (FDC) or Group Family Day Care (GFDC) applicants
  in New York State prior to licensure or registration\, as well as for exi
 sting FDC or GFDC providers who change location or modality. This course i
 s required for all new FDC and GFDC providers by NYS OCFS. \n\nThis is a t
 hree-day training: August 19th\, August 20th & August 21st. \nA minimum of
  two fully paid participants are required to hold the training session and
  a refund will be issued if the class is cancelled due to low enrollment.
 \n\nTo register\, click on the link provided below in the registration det
 ail section.\n\nTarget Audience: Family/Group Family Providers\nTrainer: S
 hakia Reynolds\nOCFS: 2\, 4\, 5\, 6\, 7\, 8\, 9 \nCBK: 5\, 6\, 7\nCDA: A\,
  B\, L\nFee: $300\n\nRegistration Details:\n1. Visit www.ecetp.pdp.albany.
 edu\n2. If you have an account\, log in using your username and password.
 \n3. If you do not have an account\, create one and then move on to # 4.\n
 4. Once logged in\, select\, “Apply for Health and Safety”\n5. To locate t
 he desired training enter Shakia Reynolds or Child Care Resources of Rockl
 and\, Inc. in the keyword search.\n6. This will bring up all the scheduled
  Health & Safety classes. \n7. Complete any identifying information and co
 nfirm that it is all correct.\n8. An email will be sent to the trainer and
  someone from our Operations Department will contact you for payment arran
 gements.\n9. After payment is settled\, you will receive an email confirmi
 ng your registration.\n\nParticipants are required to attend all days in o
 rder to receive full training credit.
DTSTART;TZID=America/New_York:20250821T093000
DTEND;TZID=America/New_York:20250821T153000
LOCATION:40 Ramland Road\, Suite 209\, Orangeburg\, NY 10962 US
SUMMARY:Health & Safety for Home-Based Providers
END:VEVENT
END:VCALENDAR
