BEGIN:VCALENDAR
VERSION:2.0
PRODID:-//childcarerockland.org//NONSGML kigkonsult.se iCalcreator 2.30.10/
 /
CALSCALE:GREGORIAN
METHOD:PUBLISH
UID:e031b7dc-3e63-4683-b284-e1530b83afa7
X-WR-CALDESC:NYS OCFS regulations for all modalities require that every pro
 gram have a person certified in CPR and First Aid on-site at all times. Ce
 rtification is valid for 2 years. As per ARC policy\, we are unable to adm
 it anyone into the class once it has begun. Please be on time! Limited to 
 5 participants. Eligible for EIP Funding.\n\nPlease note: Community CPR an
 d the Community First Aid\, as a bundle\, are offered together and complet
 ed in one session. AED training is included.\n\nTarget Audience: All\nTrai
 ner: Christie Cinquemani\nOCFS: 4\nFee: $150 members/ $200 non-members\nRe
 gister by calling (845) 425-0009 x0.\n\nPayment is required upon registrat
 ion and a confirmation of payment will be emailed to you. A reimbursement 
 check will be issued after completion of the class.
X-WR-RELCALID:c8da93ca953f4ff2ac191017d734aade
X-WR-TIMEZONE:America/New_York
BEGIN:VTIMEZONE
TZID:America/New_York
BEGIN:STANDARD
TZNAME:EST
DTSTART:20241103T020000
TZOFFSETFROM:-0400
TZOFFSETTO:-0500
RDATE:20251102T020000
RDATE:20261101T020000
END:STANDARD
BEGIN:DAYLIGHT
TZNAME:EDT
DTSTART:20250309T020000
TZOFFSETFROM:-0500
TZOFFSETTO:-0400
RDATE:20260308T020000
END:DAYLIGHT
END:VTIMEZONE
BEGIN:VEVENT
UID:44f75f1d-3575-410a-8e94-84877dd259bd
DTSTAMP:20260421T161920Z
DESCRIPTION:NYS OCFS regulations for all modalities require that every prog
 ram have a person certified in CPR and First Aid on-site at all times. Cer
 tification is valid for 2 years. As per ARC policy\, we are unable to admi
 t anyone into the class once it has begun. Please be on time! Limited to 5
  participants. Eligible for EIP Funding.\n\nPlease note: Community CPR and
  the Community First Aid\, as a bundle\, are offered together and complete
 d in one session. AED training is included.\n\nTarget Audience: All\nTrain
 er: Christie Cinquemani\nOCFS: 4\nFee: $150 members/ $200 non-members\nReg
 ister by calling (845) 425-0009 x0.\n\nPayment is required upon registrati
 on and a confirmation of payment will be emailed to you. A reimbursement c
 heck will be issued after completion of the class.
DTSTART;TZID=America/New_York:20250806T090000
DTEND;TZID=America/New_York:20250806T123000
LOCATION:40 Ramland Road\, Suite 209\, Orangeburg\, NY 10962 US
SUMMARY:American Red Cross: CPR and First Aid Bundle
END:VEVENT
END:VCALENDAR
