BEGIN:VCALENDAR
VERSION:2.0
PRODID:-//childcarerockland.org//NONSGML kigkonsult.se iCalcreator 2.30.10/
 /
CALSCALE:GREGORIAN
METHOD:PUBLISH
UID:d6efee4c-1d31-45d1-90db-83209a3cac15
X-WR-CALDESC:If you renewed your MAT certification twice consecutively onli
 ne\, you will need to have your skills assessed by a MAT trainer to comple
 te your third renewal. You will take the online renewal first and then mee
 t with the MAT trainer to be tested on the three MAT Demonstration Compete
 ncies: Liquid Measure\, Randomized Skills and the administration of the ep
 inephrine auto-injectors (EpiPen and Auvi-Q). A certificate for one traini
 ng hour will be issued after completion.\nParticipants are eligible for a 
 rebate from SUNY Albany Professional Development Program.\nContact SUNY fo
 r rebate information : (866) 295-9616\n\nTarget Audience: All\nTrainer: Kr
 istin Saunders\nLevel: All\nOCFS: 2\, 3\, 4\, 7\nCBK: 5\, 6\, 7\nCDA: A\, 
 B\nFee: $150 members/ $200 non-members * Rebate: $70\n\nIMPORTANT! REGISTR
 ATION PROCEDURE FOR MAT!\nTo register you must first create an account wit
 h The Early Childhood Professional Development Program (PDP)\nand then reg
 ister here: www. ecetp.pdp.albany.edu\n\nPayment is required upon registra
 tion and a confirmation of payment will be emailed to you. A reimbursement
  check will be issued after completion of the class.
X-WR-RELCALID:e52a4ad75d8b120c6f3b69937051b9f6
X-WR-TIMEZONE:America/New_York
BEGIN:VTIMEZONE
TZID:America/New_York
BEGIN:STANDARD
TZNAME:EST
DTSTART:20241103T020000
TZOFFSETFROM:-0400
TZOFFSETTO:-0500
RDATE:20251102T020000
RDATE:20261101T020000
END:STANDARD
BEGIN:DAYLIGHT
TZNAME:EDT
DTSTART:20250309T020000
TZOFFSETFROM:-0500
TZOFFSETTO:-0400
RDATE:20260308T020000
END:DAYLIGHT
END:VTIMEZONE
BEGIN:VEVENT
UID:e73fab49-703f-454c-b82f-281ae2ee5b5c
DTSTAMP:20260421T175228Z
DESCRIPTION:If you renewed your MAT certification twice consecutively onlin
 e\, you will need to have your skills assessed by a MAT trainer to complet
 e your third renewal. You will take the online renewal first and then meet
  with the MAT trainer to be tested on the three MAT Demonstration Competen
 cies: Liquid Measure\, Randomized Skills and the administration of the epi
 nephrine auto-injectors (EpiPen and Auvi-Q). A certificate for one trainin
 g hour will be issued after completion.\nParticipants are eligible for a r
 ebate from SUNY Albany Professional Development Program.\nContact SUNY for
  rebate information : (866) 295-9616\n\nTarget Audience: All\nTrainer: Kri
 stin Saunders\nLevel: All\nOCFS: 2\, 3\, 4\, 7\nCBK: 5\, 6\, 7\nCDA: A\, B
 \nFee: $150 members/ $200 non-members * Rebate: $70\n\nIMPORTANT! REGISTRA
 TION PROCEDURE FOR MAT!\nTo register you must first create an account with
  The Early Childhood Professional Development Program (PDP)\nand then regi
 ster here: www. ecetp.pdp.albany.edu\n\nPayment is required upon registrat
 ion and a confirmation of payment will be emailed to you. A reimbursement 
 check will be issued after completion of the class.
DTSTART;TZID=America/New_York:20250723T173000
DTEND;TZID=America/New_York:20250723T213000
LOCATION:40 Ramland Road\, Suite 209\, Orangeburg\, NY 10962 US
SUMMARY:Competency Testing: 3rd Time Renewal / MAT Skills Renewal
END:VEVENT
END:VCALENDAR
